BEGIN:VCALENDAR
VERSION:2.0
CALSCALE:GREGORIAN
PRODID:https://kalender.karlsruhe.de/db/termine/
METHOD:PUBLISH
BEGIN:VEVENT
UID:581081
ORGANIZER;CN=Stadtgestaltung und Stadterneuerung:MAILTO:bereich.se@stpla.karlsruhe.de
LOCATION:Hildebrandstraße 28
SUMMARY:Baustellenführungen in Durlach-Aue
DESCRIPTION;ENCODING=QUOTED-PRINTABLE:Kernsanierung von Wohngeb=C3=A4uden der Volkswohnung=0D=0A=0D=0A  Seit knapp vier J
 ahren werden in der Hildebrandstra=C3=9Fe/Reichenbachstra=C3=9Fe die Wohnge
 b=C3=A4ude sukzessive saniert. Die Stadt Karlsruhe l=C3=A4dt in Kooperation
  mit der Volkswohnung GmbH zu Baustellenf=C3=BChrungen ein. Interessierte k
 =C3=B6nnen die baugleichen Objekte in unterschiedlichen Stadien besichtigen
  und spannende Einblicke erhalten.    =0D=0A    =0D=0A    Eine Anmeldung ist unbedi
 ngt erforderlich: sanierung@stpla.karlsruhe.de. Die Teilnehmendenzahl ist b
 egrenzt. =20
URL:https://kalender.karlsruhe.de/db/termine/architektur/baustellenfuhrungen_in_durlach_aue
CLASS:PUBLIC
DTSTART:20260508T150000
DTEND:20260508T154500
DTSTAMP:20260421T110424
CATEGORIES:Architektur, Baukultur
ATTACH:https://kalender.karlsruhe.de/db/termine/architektur/baustellenfuhrungen_in_durlach_aue/file/icon_A3-Plakat_Tag der Städtebauförderung_2026_Druckversion_26-0194.jpg
END:VEVENT

END:VCALENDAR
