BEGIN:VCALENDAR
VERSION:2.0
CALSCALE:GREGORIAN
PRODID:https://kalender.karlsruhe.de/db/termine/
METHOD:PUBLISH
BEGIN:VEVENT
UID:580922
ORGANIZER;CN=A SF:MAILTO:info@architekturschaufenster.de
LOCATION:A SF
SUMMARY:Bauturbo - Wie wird er in Karlsruhe umgesetzt?
DESCRIPTION;ENCODING=QUOTED-PRINTABLE:Vortrag von B=C3=BCrgermeister Daniel Fluhrer und Heike Dederer-Sch=C3=B6be
 rl\, Leiterin des Stadtplanungsamtes=0D=0A=0D=0A  Angesichts steigender Nachfrage un
 d begrenzter Fl=C3=A4chen gewinnt eine  effiziente Stadtentwicklung zunehme
 nd an Bedeutung. Mit dem sogenannten Bauturbo  gibt es seit Ende Oktober 20
 25 zus=C3=A4tzliche M=C3=B6glichkeiten\, Wohnraum  einfacher zu genehmigen\, 
 auch wenn das Vorhaben nach den bisherigen  planungsrechtlichen Regeln zun
 =C3=A4chst nicht zul=C3=A4ssig w=C3=A4re. Im Rahmen der  Veranstaltung werd
 en B=C3=BCrgermeister Daniel Fluhrer und  Planungsamtsleiterin Heike Dedere
 r-Sch=C3=B6berl die Hintergr=C3=BCnde\, Ziele und  geplanten Ma=C3=9Fnahmen 
 vorstellen\, mit denen Planungs- und  Genehmigungsprozesse in Karlsruhe besc
 hleunigt und damit zus=C3=A4tzlicher  Wohnraum geschaffen werden sollen. Ne
 ben einem =C3=9Cberblick =C3=BCber die  strategischen Ans=C3=A4tze bietet d
 ie Veranstaltung Raum f=C3=BCr Fragen und einen  offenen Austausch. =20
URL:https://kalender.karlsruhe.de/db/termine/architektur/bauturbo_wie_wird_er_in_karlsruhe_umgesetzt
CLASS:PUBLIC
DTSTART:20260423T190000
DTEND:
DTSTAMP:20260415T100830
CATEGORIES:Architektur, Baukultur
ATTACH:https://kalender.karlsruhe.de/db/termine/architektur/bauturbo_wie_wird_er_in_karlsruhe_umgesetzt/file/icon_Instagram_Ankündigung_Bauturbo.jpg
END:VEVENT

END:VCALENDAR
