BEGIN:VCALENDAR
VERSION:2.0
CALSCALE:GREGORIAN
PRODID:https://kalender.karlsruhe.de/db/termine/
METHOD:PUBLISH
BEGIN:VEVENT
UID:576576
ORGANIZER;CN=Gartenbauamt Stadt Karlsruhe:MAILTO:oeffentlichkeitsarbeit@gba.karlsruhe.de
LOCATION:Zoologischer Stadtgarten. Treffpunkt Kasse Nord Nancyhalle.
SUMMARY:Führung Bäume Zoologischer Stadtgarten
DESCRIPTION;ENCODING=QUOTED-PRINTABLE:Gartenbauamt stellt B=C3=A4ume in den Mittelpunkt=0D=0A=0D=0A  Zum Abschluss der Ga
 rtensaison l=C3=A4dt das Gartenbauamt zu einer F=C3=BChrung im  Zoologische
 n Stadtgarten mit dem Thema =E2=80=9EB=C3=A4ume=E2=80=9C ein.  =0D=0A  =0D=0A  Im S
 tadtgarten gibt es eine gro=C3=9Fe Vielfalt an unterschiedlichen B=C3=A4ume
 n. Nahezu 700 gro=C3=9Fe\, teilweise sehr alte B=C3=A4ume in ihrem Artenreic
 htum pr=C3=A4gen das Bild des Stadtgartens. Die Vielf=C3=A4ltigkeit der Bau
 mgestalten\, ihr eigenes\, gerade in dieser Jahreszeit\, typisches Erscheinung
 sbild sollen die Besucher neu ansprechen und begeistern.  =0D=0A  Interessierte
  erfahren bei einer F=C3=BChrung mit Herrn Kramer (Mitarbeiter des st=C3=A4
 dtischen Gartenbauamtes) Wissenswertes =C3=BCber Heimat und Verbreitungsgeb
 iet\, Holz\, Blatt\, Bl=C3=BCte und Frucht der verschiedenen B=C3=A4ume\; vom A
 mberbaum aus Amerika bis zum Kuchenbaum aus Japan. Auch die Aufgabenschwerp
 unkte der Abteilung Baumpflege werden in der F=C3=BChrung beleuchtet.    Di
 e F=C3=BChrung selbst ist kostenfrei\, jedoch ist der Erwerb einer g=C3=BClt
 igen Eintrittskarte erforderlich. Diese kann =C3=BCber das Online-Ticketbuc
 hungssystem oder vor Ort an den Kassenh=C3=A4uschen erworben werden. =20
URL:https://kalender.karlsruhe.de/db/termine/architektur/fuhrung_baume_zoologischer_stadtgarten
CLASS:PUBLIC
DTSTART:20261018T103000
DTEND:
DTSTAMP:20251201T091236
CATEGORIES:Stadtleben
ATTACH:https://kalender.karlsruhe.de/db/termine/stadtleben/fuhrung_baume_zoologischer_stadtgarten/file/icon_2024_Bäume-Führung_Quelle Paul Kuhnert.jpg
END:VEVENT

END:VCALENDAR
