BEGIN:VCALENDAR
VERSION:2.0
CALSCALE:GREGORIAN
PRODID:https://kalender.karlsruhe.de/db/termine/
METHOD:PUBLISH
BEGIN:VEVENT
UID:576574
ORGANIZER;CN=Gartenbauamt Stadt Karlsruhe:MAILTO:oeffentlichkeitsarbeit@gba.karlsruhe.de
LOCATION:Zoologischer Stadtgarten. Treffpunkt Kasse Nord Nancyhalle.
SUMMARY:Führung Japangarten Zoologischer Stadtgarten
DESCRIPTION;ENCODING=QUOTED-PRINTABLE:Gartenbauamt stellt Japangarten in den Mittelpunkt=0D=0A=0D=0A  Das Gartenbauamt l
 =C3=A4dt zu einer F=C3=BChrung durch einen der =C3=A4ltesten Japang=C3=A4rt
 en Deutschlands ein.    Bei der F=C3=BChrung wird seine ereignisreiche Entw
 icklungsgeschichte anhand verschiedener original japanischer Ausstattungsel
 emente im Garten beleuchtet. Eine weitere Besonderheit ist der alte und vie
 lf=C3=A4ltige japanische Geh=C3=B6lzbestand - oftmals ein Gastgeschenk japa
 nischer Besucherdelegationen an die Stadt Karlsruhe. Viele der verwendeten 
 Geh=C3=B6lze warten im Herbst nochmals mit einer leuchtenden Herbstf=C3=A4r
 bung des Laubes auf. Herr Schmidt wei=C3=9F als ehemaliger Leiter des Garte
 nbauamtes und Autor des 2014 erschienen Buches =E2=80=9EDer Japangarten in 
 Karlsruhe=E2=80=9C allerhand spannende Geschichten rund um dieses besondere
  Kleinod zu erz=C3=A4hlen. Neben historischen Gegebenheiten wird viel Wisse
 nswertes zur japanischen Gartengestaltung und -philosophie vermittelt werde
 n.    Die F=C3=BChrung ist kostenfrei\, jedoch ist der Erwerb einer g=C3=BCl
 tigen Eintrittskarte erforderlich. Diese kann =C3=BCber das Online-Ticketbu
 chungssystem oder vor Ort an den Kassenh=C3=A4uschen erworben werden. =20
URL:https://kalender.karlsruhe.de/db/termine/architektur/fuhrung_japangarten_zoologischer_stadtgarten
CLASS:PUBLIC
DTSTART:20260927T103000
DTEND:
DTSTAMP:20251201T091427
CATEGORIES:Stadtleben
ATTACH:https://kalender.karlsruhe.de/db/termine/stadtleben/fuhrung_japangarten_zoologischer_stadtgarten/file/icon_2024_Japangarten-Führung1_Quelle Paul Kuhnert_1.jpg
END:VEVENT

END:VCALENDAR
