BEGIN:VCALENDAR
VERSION:2.0
CALSCALE:GREGORIAN
PRODID:https://kalender.karlsruhe.de/db/termine/
METHOD:PUBLISH
BEGIN:VEVENT
UID:576572
ORGANIZER;CN=Gartenbauamt Stadt Karlsruhe:MAILTO:oeffentlichkeitsarbeit@gba.karlsruhe.de
LOCATION:Zoologischer Stadtgarten. Treffpunkt Kasse Nord Nancyhalle.
SUMMARY:Führung Rosen Zoologischer Stadtgarten
DESCRIPTION;ENCODING=QUOTED-PRINTABLE:Gartenbauamt stellt Rosen in den Mittelpunkt=0D=0A=0D=0A  Zum Beginn des Sommers l
 =C3=A4dt das Gartenbauamt wieder zu einer F=C3=BChrung im Zoologischen Stad
 tgarten mit dem Thema =E2=80=9ERosen=E2=80=9C ein.    Der Karlsruher Roseng
 arten wurde in den vergangenen 125 Jahren mehrfach umgestaltet. Mit seinen 
 etwa 15.000 Rosen\, die sich aus 130 Sorten zusammensetzen\, begeistert er na
 ch wie vor die Besucher des Stadtgartens. Freunde der Rose haben am Sonntag
  die Gelegenheit\, von fachkundigen Mitarbeitern des Gartenbauamtes etwas 
 =C3=BCber die Historie des Rosengartens zu erfahren\, sowie viele praktische
  Tipps rund um das Thema Rose von den Roseng=C3=A4rtnerinnen zu erhalten.  
   Die F=C3=BChrung selbst ist kostenfrei\, jedoch ist der Erwerb einer g=C3
 =BCltigen Eintrittskarte erforderlich. Diese kann =C3=BCber das Online-Tick
 etbuchungssystem oder vor Ort an den Kassenh=C3=A4uschen erworben werden. 
 =20
URL:https://kalender.karlsruhe.de/db/termine/architektur/fuhrung_rosen_zoologischer_stadtgarten
CLASS:PUBLIC
DTSTART:20260614T103000
DTEND:
DTSTAMP:20260120T120059
CATEGORIES:Stadtleben
ATTACH:https://kalender.karlsruhe.de/db/termine/stadtleben/fuhrung_rosen_zoologischer_stadtgarten/file/icon_Rosenführung_Quelle Paul Kuhnert.jpg
END:VEVENT

END:VCALENDAR
