BEGIN:VCALENDAR
VERSION:2.0
CALSCALE:GREGORIAN
PRODID:https://kalender.karlsruhe.de/db/termine/
METHOD:PUBLISH
BEGIN:VEVENT
UID:576573
ORGANIZER;CN=Gartenbauamt Stadt Karlsruhe:MAILTO:oeffentlichkeitsarbeit@gba.karlsruhe.de
LOCATION:Zoologischer Stadtgarten. Treffpunkt Kasse Nord Nancyhalle.
SUMMARY:Führung Sommerblumen Zoologischer Stadtgarten
DESCRIPTION;ENCODING=QUOTED-PRINTABLE:Gartenbauamt stellt Sommerblumen in den Mittelpunkt=0D=0A=0D=0A  Zum Hochpunkt der 
 Sommermonate l=C3=A4dt das Gartenbauamt wieder zu einer F=C3=BChrung im Zoo
 logischen Stadtgarten mit dem Thema =E2=80=9ESommerblumen=E2=80=9C ein.    
 Knapp 30.000 im Stadtgarten gepflanzte Sommerblumen in rund 200 verschieden
 en Arten und Sorten versprechen\, dass dieser Rundgang durch den Zoologische
 n Stadtgarten zu einem abwechslungsreichen Erlebnis wird. Die Mitarbeiter d
 es Gartenbauamtes erl=C3=A4utern Planungsgrunds=C3=A4tze der Pflanzungen un
 d geben Anregungen zu Verwendungs- und Pflegehinweisen der Pflanzen. Gerne 
 werden von den Fachleuten Fragen zur Garten- und Balkongestaltung mit Somme
 rbl=C3=BChern sowie zu Anspr=C3=BCchen und Pflege dieser beantwortet.    Di
 e F=C3=BChrung ist kostenfrei\, jedoch ist der Erwerb einer g=C3=BCltigen Ei
 ntrittskarte erforderlich. Diese kann =C3=BCber das Online-Ticketbuchungssy
 stem oder vor Ort an den Kassenh=C3=A4uschen erworben werden. =20
URL:https://kalender.karlsruhe.de/db/termine/architektur/fuhrung_sommerblumen_zoologischer_stadtgarten
CLASS:PUBLIC
DTSTART:20260719T103000
DTEND:
DTSTAMP:20251202T121857
CATEGORIES:Stadtleben
ATTACH:https://kalender.karlsruhe.de/db/termine/stadtleben/fuhrung_sommerblumen_zoologischer_stadtgarten/file/icon_IMG_2137_Paul Kuhnert_1.jpg
END:VEVENT

END:VCALENDAR
