BEGIN:VCALENDAR
VERSION:2.0
CALSCALE:GREGORIAN
PRODID:https://kalender.karlsruhe.de/db/termine/
METHOD:PUBLISH
BEGIN:VEVENT
UID:576575
ORGANIZER;CN=Gartenbauamt Stadt Karlsruhe:MAILTO:oeffentlichkeitsarbeit@gba.karlsruhe.de
LOCATION:Zoologischer Stadtgarten. Treffpunkt Kasse Nord Nancyhalle.
SUMMARY:Führung Stadtgarten Karlsruhe Central Park
DESCRIPTION;ENCODING=QUOTED-PRINTABLE:Gartenbauamt stellt den Stadtgarten in den Mittelpunkt=0D=0A=0D=0A  Im Herbst l=C3
 =A4dt das Gartenbauamt erstmals zu einer F=C3=BChrung im Zoologischen Stadt
 garten mit dem Thema =E2=80=9EStadtgarten - Karlsruhe Central Park=E2=80=9C
  ein.    Der Stadtgarten in Karlsruhe ist in vieler Hinsicht eine attraktiv
 e  und wertvolle Parkanlage mit hoher Bedeutung f=C3=BCr die Karlsruher  B
 =C3=BCrger*innen\, wie f=C3=BCr Besucher*innen aus der  Region und dar=C3=BC
 ber hinaus. Im Sommer 2025 wurde der Verein =E2=80=9EStadtgartenfreunde Kar
 lsruhe e.V.=E2=80=9C  gegr=C3=BCndet\, der sich f=C3=BCr den Erhalt und die 
  Weiterentwicklung des Stadtgartens als Parkanlage einsetzt und in  seiner 
 Bedeutung als einzigartiger Teil der Gesamtanlage des  =E2=80=9EZoologische
 n Stadtgartens=E2=80=9C st=C3=A4rkt.  =0D=0A  Prof.  Dr.-Ing. Ursula Nothhelfer
 \, Professorin f=C3=BCr Vegetationsplanung und  Pflanzenverwendung an der Hf
 WU N=C3=BCrtingen und Mitglied des Vereins\, zeigt die historische  Entwickl
 ung des Stadtgartens auf\, seit seiner Gr=C3=BCndung 1823 im  Sallenw=C3=A4l
 dchen bis zur Neugestaltung der Gesamtanlage im Rahmen der  Bundesgartensch
 au 1967 zu der Parkanlage\, wie wir sie heute kennen.  Aspekte des Vortrages
  sind auch die Einbindung des Stadtgartens in den  Kontext anderer ber=C3
 =BChmter Parkanlagen und die Bedeutung innerhalb des  Karlsruher Stadtgef
 =C3=BCges.    Die F=C3=BChrung selbst ist kostenfrei\, jedoch ist der Erwerb
  einer g=C3=BCltigen  Eintrittskarte erforderlich. Diese kann =C3=BCber das
   Online-Ticketbuchungssystem oder vor Ort an den Kassenh=C3=A4uschen erwor
 ben  werden.    https://stadtgartenfreunde.de/ =20
URL:https://kalender.karlsruhe.de/db/termine/architektur/fuhrung_stadtgarten_karlsruhe_central_park
CLASS:PUBLIC
DTSTART:20261011T103000
DTEND:
DTSTAMP:20260305T091011
CATEGORIES:Stadtleben
ATTACH:https://kalender.karlsruhe.de/db/termine/stadtleben/fuhrung_stadtgarten_karlsruhe_central_park/file/icon_Alte-Ansichtskarte-Postkarte-Karlsruhe-Stadtgarten-1966.jpg
END:VEVENT

END:VCALENDAR
