BEGIN:VCALENDAR
VERSION:2.0
CALSCALE:GREGORIAN
PRODID:https://kalender.karlsruhe.de/db/termine/
METHOD:PUBLISH
BEGIN:VEVENT
UID:576570
ORGANIZER;CN=Gartenbauamt Stadt Karlsruhe:MAILTO:oeffentlichkeitsarbeit@gba.karlsruhe.de
LOCATION:Zoologischer Stadtgarten. Treffpunkt Kasse Nord Nancyhalle.
SUMMARY:Führung Stauden Zoologischer Stadtgarten
DESCRIPTION;ENCODING=QUOTED-PRINTABLE:Gartenbauamt stellt Stauden in den Mittelpunkt=0D=0A=0D=0A  Zum Beginn des Sommers 
 l=C3=A4dt das Gartenbauamt zu einer F=C3=BChrung im Zoologischen Stadtgarte
 n mit dem Thema =E2=80=9EStauden=E2=80=9C ein.    Wie in den vergangenen Ja
 hren wird die Stauden-Expertin\, Frau Michaela Senk\, ihren umfassenden Wisse
 nsschatz beim gemeinsamen Spaziergang zu den unterschiedlich gestalteten St
 audenbeeten im Stadtgarten teilen. Hierbei erhalten die Teilnehmenden wertv
 olle Informationen zu den Standortanspr=C3=BCchen\, zur optimalen Pflanzenau
 swahl\, gelungenen Kombinationsm=C3=B6glichkeiten\, insektenfreundlichen Bl
 =C3=BChstauden sowie wichtige Pflegetipps f=C3=BCr den eigenen Garten oder 
 k=C3=B6nnen sich einfach nur am Meer der Farben und Formen erfreuen.    Die
  F=C3=BChrung ist kostenfrei\, jedoch ist der Erwerb einer g=C3=BCltigen  Ei
 ntrittskarte erforderlich. Diese kann =C3=BCber das  Online-Ticketbuchungss
 ystem oder vor Ort an den Kassenh=C3=A4uschen erworben  werden.    =0D=0A =20
URL:https://kalender.karlsruhe.de/db/termine/architektur/fuhrung_stauden_zoologischer_stadtgarten
CLASS:PUBLIC
DTSTART:20260531T103000
DTEND:
DTSTAMP:20260305T091011
CATEGORIES:Stadtleben
ATTACH:https://kalender.karlsruhe.de/db/termine/stadtleben/fuhrung_stauden_zoologischer_stadtgarten/file/icon_Stauden-Führung_Quelle Paul Kuhnert.jpg
END:VEVENT

END:VCALENDAR
