BEGIN:VCALENDAR
VERSION:2.0
CALSCALE:GREGORIAN
PRODID:https://kalender.karlsruhe.de/db/termine/
METHOD:PUBLISH
BEGIN:VEVENT
UID:580846
ORGANIZER;CN=Pfinzgaumuseum Karlsburg Durlach:MAILTO:archiv@kultur.karlsruhe.de
LOCATION:Pfinzgaumuseum Karlsburg Durlach
SUMMARY:Museumsfest im Pfinzgaumuseum
DESCRIPTION;ENCODING=QUOTED-PRINTABLE:mit Aktionen und F=C3=BChrungen f=C3=BCr kleine und gro=C3=9Fe Besucherinne
 n und Besucher=0D=0A=0D=0A    Das Pfinzgaumuseum in der Karlsburg Durlach feiert am
  Sonntag\, 26. April 2026 sein j=C3=A4hrliches Museumsfest. Bei freiem Eintr
 itt ist zwischen 11 und 18 Uhr im Festsaal der Karlsburg und in den Museums
 r=C3=A4umen allerlei geboten.    =0D=0A =20
URL:https://kalender.karlsruhe.de/db/termine/architektur/museumsfest_im_pfinzgaumuseum-1
CLASS:PUBLIC
DTSTART:20260426T110000
DTEND:20260426T180000
DTSTAMP:20260410T130026
CATEGORIES:Kunst, Ausstellungen
ATTACH:https://kalender.karlsruhe.de/db/termine/ausstellungen/museumsfest_im_pfinzgaumuseum-1/file/icon_PGM_Museumsfest26_Webbild.jpg
END:VEVENT

END:VCALENDAR
