BEGIN:VCALENDAR
VERSION:2.0
CALSCALE:GREGORIAN
PRODID:https://kalender.karlsruhe.de/db/termine/
METHOD:PUBLISH
BEGIN:VEVENT
UID:577979
ORGANIZER;CN=KME Karlsruhe Marketing und Event GmbH:MAILTO:info@karlsruhe-event.de
LOCATION:Karlsruhe
SUMMARY:Tag des offenen Denkmals® 2026
DESCRIPTION;ENCODING=QUOTED-PRINTABLE:Beim Tag des offenen Denkmals=C2=AE 2026 =C3=B6ffnen historische Geb=C3=A4u
 de und Orte in Karlsruhe ihre T=C3=BCren f=C3=BCr Entdeckungen\, F=C3=BChrun
 gen und kostenfreie Einblicke in Geschichte und Architektur.=0D=0A=0D=0A  Der     T
 ag des offenen Denkmals=C2=AE    macht Geschichte erlebbar: Am 13. Septembe
 r 2026=C2=A0=C3=B6ffnen in Karlsruhe und der KulturRegion zahlreiche Denkma
 le\, Bauwerke und historische Orte ihre Tore =E2=80=93 meist kostenlos und f
 =C3=BCr alle Altersgruppen.=C2=A0Zum 200. Todestag von Carl Friedrich Weinb
 renner =C3=B6ffnen in diesem Jahr auch und vor allem historische Geb=C3=A4u
 de und Orte\, die mit seinem Werk verbunden sind.    Besucherinnen und Besuc
 her k=C3=B6nnen bei     F=C3=BChrungen\, thematischen Rundg=C3=A4ngen\, Orgel
 konzerten und besonderen Einblicken hinter sonst verschlossene T=C3=BCren  
   mehr =C3=BCber Architektur\, Denkmalschutz und lokale Geschichte erfahren.
     Vom Blick in historische Sakralbauten =C3=BCber gef=C3=BChrte Spazierg
 =C3=A4nge zu Kulturst=C3=A4tten bis hin zu Mitmachaktionen =E2=80=93 der Ak
 tionstag bietet abwechslungsreiche Programmpunkte\, die Geschichte lebendig 
 machen und zum Entdecken einladen. Gleichzeitig f=C3=B6rdert der Tag des of
 fenen Denkmals die Wertsch=C3=A4tzung unseres kulturellen Erbes und den Aus
 tausch =C3=BCber Erhalt und Nutzung historischer St=C3=A4tten.    Foto: KME
  Karlsruhe Marketing und Event GmbH | J=C3=BCrgen R=C3=B6sner =20
URL:https://kalender.karlsruhe.de/db/termine/architektur/tag_des_offenen_denkmals2026n
CLASS:PUBLIC
DTSTART:20260913T110000
DTEND:20260913T180000
DTSTAMP:20260114T085401
CATEGORIES:Architektur, Baukultur
ATTACH:https://kalender.karlsruhe.de/db/termine/architektur/tag_des_offenen_denkmals2026n/file/icon_Tag _des _offenen _Denkmals _2022_Denkmalrouten_©_KME_JuergenRoesner_1.jpg
END:VEVENT

END:VCALENDAR
