BEGIN:VCALENDAR
VERSION:2.0
CALSCALE:GREGORIAN
PRODID:https://kalender.karlsruhe.de/db/termine/
METHOD:PUBLISH
BEGIN:VEVENT
UID:577870
ORGANIZER;CN=BD Karlsruhe:MAILTO:feuerwehr@karlsruhe.de
LOCATION:Schlossplatz Karlsruhe
SUMMARY:100 Jahre Berufsfeuerwehr Karlsruhe - Feuerwehr-Oldtimertreffen, Handdruckspritzenwettbewerb und Landesflorianifeier
DESCRIPTION;ENCODING=QUOTED-PRINTABLE:Ein Tag voller Tradition\, Technik und Feuerwehrgeschichte im Herzen Karlsru
 hes=0D=0A=0D=0A  Die Branddirektion Karlsruhe und der Landesfeuerwehrverband Baden-
 W=C3=BCrttemberg laden anl=C3=A4sslich des100-j=C3=A4hrigen Jubil=C3=A4ums 
 der Berufsfeuerwehr dazu ein\, Feuerwehrgeschichte live zu erleben. Den feie
 rlichen Auftakt bildet die Landesflorianifeier um 10:30 Uhr in der evangeli
 schen Stadtkirche Karlsruhe. Ab 11:00 Uhr werden rund um das Schloss beim 1
 2. Landesfeuerwehr-Oldtimertreffen historische Feuerwehrfahrzeuge pr=C3=A4s
 entiert. Mit etwas Gl=C3=BCck sind diese bereits zuvor bei einer gemeinsame
 n Ausfahrt durch Karlsruhe zu sehen. Ab ca. 12:00 Uhr folgt der 34. Wettbew
 erb Historischer Handdruck-Feuerspritzen vor dem Schloss. Er bietet einen a
 uthentischen Einblick in die Brandbek=C3=A4mpfung vergangener Zeiten. Freue
 n Sie sich darauf\, Feuerwehrtechnik aus vergangenen Zeiten in ihrer urspr
 =C3=BCnglichen Form zu erleben\, die heutzutage nur noch selten zu sehen ist
 . =20
URL:https://kalender.karlsruhe.de/db/termine/ausstellungen/100_jahre_berufsfeuerwehr_karlsruhe-1
CLASS:PUBLIC
DTSTART:20260426T103000
DTEND:20260426T160000
DTSTAMP:20260113T114434
CATEGORIES:Kunst, Ausstellungen
ATTACH:https://kalender.karlsruhe.de/db/termine/ausstellungen/100_jahre_berufsfeuerwehr_karlsruhe-1/file/icon_100 Jahre Berufsfeuerwehr_cmyk.jpg
END:VEVENT

END:VCALENDAR
