BEGIN:VCALENDAR
VERSION:2.0
CALSCALE:GREGORIAN
PRODID:https://kalender.karlsruhe.de/db/termine/
METHOD:PUBLISH
BEGIN:VEVENT
UID:577872
ORGANIZER;CN=BD Karlsruhe:MAILTO:feuerwehr@karlsruhe.de
LOCATION:Marktplatz und Schlossplatz
SUMMARY:100 Jahre Berufsfeuerwehr Karlsruhe - Tag und Nacht der Berufsfeuerwehr
DESCRIPTION;ENCODING=QUOTED-PRINTABLE:Ein Tag f=C3=BCr alle =E2=80=93 Einblicke in die Einsatzwelt und eine Nacht
  zum Feiern=0D=0A=0D=0A  100 Jahre Berufsfeuerwehr Karlsruhe\, das ist ein Grund zum
  Feiern! Die Berufsfeuerwehr Karlsruhe l=C3=A4dt Sie daher am 11.07.2026 he
 rzlich zu einem au=C3=9Fergew=C3=B6hnlichen Tag und einer stimmungsvollen N
 acht rund um das Thema Feuerwehr ein. Zwischen 10 und 17 Uhr stehen der Mar
 ktplatz und der Schlossplatz ganz im Zeichen der Feuerwehr und der Blaulich
 torganisationen. Technikbegeisterte kommen bei der Fahrzeug- und Leistungss
 chau auf ihre Kosten und Neugierige k=C3=B6nnen sich bei spannenden Mitmach
 aktionen ausprobieren. Erleben Sie\, wie Einsatzkr=C3=A4fte t=C3=A4glich f
 =C3=BCr die Sicherheit der Bev=C3=B6lkerung sorgen! Der Tag der Berufsfeuer
 wehr ist f=C3=BCr alle Interessierten kostenlos. Mit der =E2=80=9ENacht der
  Berufsfeuerwehr=E2=80=9C ab 20 Uhr im Club Stadtmitte klingt der Tag schli
 e=C3=9Flich mit einer unvergesslichen Feier aus. Der Eintritt zur Abendvera
 nstaltung ist kostenpflichtig und wird f=C3=BCr einen wohlt=C3=A4tigen Zwec
 k gespendet.    =0D=0A =20
URL:https://kalender.karlsruhe.de/db/termine/ausstellungen/100_jahre_berufsfeuerwehr_karlsruhe
CLASS:PUBLIC
DTSTART:20260711T100000
DTSTAMP:20260113T114435
CATEGORIES:Kunst, Ausstellungen
ATTACH:https://kalender.karlsruhe.de/db/termine/ausstellungen/100_jahre_berufsfeuerwehr_karlsruhe/file/icon_100 Jahre Berufsfeuerwehr_cmyk.jpg
END:VEVENT

END:VCALENDAR
