BEGIN:VCALENDAR
VERSION:2.0
CALSCALE:GREGORIAN
PRODID:https://kalender.karlsruhe.de/db/termine/
METHOD:PUBLISH
BEGIN:VEVENT
UID:577434
ORGANIZER;CN=Badischer Kunstverein:MAILTO:info@badischer-kunstverein.de
LOCATION:Badischer Kunstverein
SUMMARY:Anna Barham
DESCRIPTION;ENCODING=QUOTED-PRINTABLE:delirious mantra=0D=0A=0D=0A  In einem digitalen Kontext\, der uns dazu verleitet\, a
 n eine nahtlose  und st=C3=B6rungsfreie Kommunikation zu glauben\, wird die 
 k=C3=B6rperliche Reibung  in der Sprache zu etwas\, das gegl=C3=A4ttet werde
 n muss. Systeme wie die  automatische Spracherkennung (ASR) sind gepr=C3=A4
 gt von hegemonialen  Vorstellungen dar=C3=BCber\, welche Stimmen z=C3=A4hlen
 \, welche Akzente lesbar sind  und welche Formen der Sprache es wert sind\, a
 nerkannt zu werden.    Die  K=C3=BCnstlerin Anna Barham (1974\, England) die
  im Badischen Kunstverein  ihre erste umfassende Einzelausstellung in Deuts
 chland zeigt\, sucht in  ihrer Praxis nach Wegen\, um sich dieser Gl=C3=A4ttu
 ng von Sprache zu  widersetzen und stattdessen dem Un=C3=BCbersetzbaren zu 
 widmen. Die  Fundst=C3=BCcke der Sprache\, die ASR nicht versteht\, bringt Ba
 rham in ihren  Installationen\, Videos und Soundarbeiten regelrecht zum  =E2
 =80=9EHalluzinieren=E2=80=9C.    Ihre k=C3=BCnstlerisch-forschende Arbeit s
 tellt sich  der Brisanz hoch aktueller Fragen zur Ethik in Sprachtechnologi
 e\,  Autokorrektur und Texterkennung und offeriert zukunftsweisende  M=C3=B6
 glichkeiten\, die von der Norm ausgegrenzten Potentiale von Sprache zu  ents
 chl=C3=BCsseln und gegen allgegenw=C3=A4rtige Formen von Autorit=C3=A4t  ei
 nzusetzen.  =0D=0A  =0D=0A  Die Ausstellung wird gef=C3=B6rdert durch den  Innovati
 onsfonds Kunst des Ministeriums fu=CC=88r Wissenschaft\, Forschung und  Kuns
 t Baden-Wu=CC=88rttemberg.    Die Ausstellung ist bis zum 14. Juni zu sehen
 . =20
URL:https://kalender.karlsruhe.de/db/termine/ausstellungen/anna_barham
CLASS:PUBLIC
DTSTART:20260213T000000
DTEND:20260614T000000
DTSTAMP:20251222T112641
CATEGORIES:Kunst, Ausstellungen
ATTACH:https://kalender.karlsruhe.de/db/termine/ausstellungen/anna_barham/file/icon_Anna Barham Out of the Gravel 300 dpi.jpg
END:VEVENT

END:VCALENDAR
