BEGIN:VCALENDAR
VERSION:2.0
CALSCALE:GREGORIAN
PRODID:https://kalender.karlsruhe.de/db/termine/
METHOD:PUBLISH
BEGIN:VEVENT
UID:580818
ORGANIZER;CN=Kunstmuseum Karlsruhe:MAILTO:kunstmuseum@karlsruhe.de
LOCATION:Kunstmuseum Karlsruhe
SUMMARY:ARTtoNight mit Kurzführungen, Drinks und DJ
DESCRIPTION;ENCODING=QUOTED-PRINTABLE:Veranstaltung 19=E2=80=9323 Uhr=0D=0A=0D=0A  ARTtoNight       18.06.2026\, 19=E2=80
 =9323 Uhr       Nachts im Kunstmuseum       Mit der ARTtoNight =C3=B6ffnet 
 das Kunstmuseum Karlsruhe seine R=C3=A4ume f=C3=BCr ein au=C3=9Fergew=C3=B6
 hnliches Kunsterlebnis. Kurzf=C3=BChrungen\, Drinks und DJ-Sets laden in=C2
 =A0entspannter Atmosph=C3=A4re dazu ein\, Kunst neu zu entdecken und=C2=A0be
 i Liveacts ins Gespr=C3=A4ch zu kommen.    Eintritt: 5 =E2=82=AC         Un
 ter 30 Jahren sowie f=C3=BCr Studierende und Auszubildende frei. =20
URL:https://kalender.karlsruhe.de/db/termine/ausstellungen/arttonight_mit_kurzfuhrungen_drinks_und_dj
CLASS:PUBLIC
DTSTART:20260618T190000
DTEND:20260618T230000
DTSTAMP:20260415T100226
CATEGORIES:Kunst, Ausstellungen
ATTACH:https://kalender.karlsruhe.de/db/termine/ausstellungen/arttonight_mit_kurzfuhrungen_drinks_und_dj/file/icon_arttonight.jpg
END:VEVENT

END:VCALENDAR
