BEGIN:VCALENDAR
VERSION:2.0
CALSCALE:GREGORIAN
PRODID:https://kalender.karlsruhe.de/db/termine/
METHOD:PUBLISH
BEGIN:VEVENT
UID:580795
ORGANIZER;CN=Kunstmuseum Karlsruhe:MAILTO:kunstmuseum@karlsruhe.de
LOCATION:Kunstmuseum Karlsruhe
SUMMARY:Blick hinter die Kulissen 17 Uhr „Im Hubbuch-Archiv“
DESCRIPTION;ENCODING=QUOTED-PRINTABLE:mit Ferial Nadja Karrasch=0D=0A=0D=0A  Museumsarbeit live!    Was passiert mit eine
 m Kunstwerk\, bevor es f=C3=BCr die =C3=96ffentlichkeit=C2=A0zug=C3=A4nglich
  wird? Besucher*innen k=C3=B6nnen im Kunstmuseum=C2=A0Karlsruhe k=C3=BCnfti
 g einen Blick hinter die Kulissen der Museumsarbeit=C2=A0werfen. Monatliche
  F=C3=BChrungen im Hubbuch-Archiv bieten=C2=A0Einblicke in die Vielfalt des
  k=C3=BCnstlerischen Nachlasses und laden=C2=A0zum Austausch =C3=BCber Lebe
 n und Werk des K=C3=BCnstlers ein.    Termine\, jeweils 17 Uhr    16.07.2026
     20.08.2026    Kosten: 2 =E2=82=AC zzgl. Eintritt =20
URL:https://kalender.karlsruhe.de/db/termine/ausstellungen/blick_hinter_die_kulissen_17_uhr_im_hubbuch_archiv-2
CLASS:PUBLIC
DTSTART:20260716T170000
DTEND:20260716T180000
DTSTAMP:20260415T100349
CATEGORIES:Kunst, Ausstellungen
ATTACH:https://kalender.karlsruhe.de/db/termine/ausstellungen/blick_hinter_die_kulissen_17_uhr_im_hubbuch_archiv-2/file/icon_Highres_Kunstmuseum_Karlsruhe__Foto Anne Sophia Stolz_vkl.jpg
END:VEVENT

END:VCALENDAR
