BEGIN:VCALENDAR
VERSION:2.0
CALSCALE:GREGORIAN
PRODID:https://kalender.karlsruhe.de/db/termine/
METHOD:PUBLISH
BEGIN:VEVENT
UID:579250
ORGANIZER;CN=Badischer Kunstverein:MAILTO:info@badischer-kunstverein.de
LOCATION:Badischer Kunstverein
SUMMARY:chorussing through the grass
DESCRIPTION;ENCODING=QUOTED-PRINTABLE:Rahmenprogramm zur Ausstellung von Anna Barham=0D=0A=0D=0A    chorussing through th
 e grass    versammelt K=C3=BCnstler:innen und Autor:innen\, die sich mit den
  materiellen  Bedingungen von Sprache und Zuh=C3=B6ren besch=C3=A4ftigen. D
 ie zweit=C3=A4gige  Veranstaltung schafft einen Raum f=C3=BCr Ans=C3=A4tze\,
  die gewohnte H=C3=B6rweisen  unterlaufen und hinterfragen\, wie Stimmen erf
 asst\, vermittelt oder  ber=C3=BCcksichtigt werden.  =0D=0A  =0D=0A  =0D=0A     Freitag\,
  24.4.2026    =0D=0A  =0D=0A  18=C2=A0Uhr  =0D=0A     JJJJJerome Ellis    =0D=0A  Eine List
 ening-Session von       The Clearing      \, gefolgt von einem Online-Gespr
 =C3=A4ch mit dem K=C3=BCnstler.       The Clearing    fragt\, wie Stottern\, 
 Blackness und Musik als Praktiken der Verweigerung  gegen=C3=BCber der hege
 monialen Regulierung von Zeit\, Sprache und Begegnung  wirken k=C3=B6nnen. A
 usgehend von seinem Stottern untersucht Ellis das  Potenzial von Dysfluenz\,
  Opazit=C3=A4t und Verweigerung f=C3=BCr die Er=C3=B6ffnung  neuer Beziehun
 gsweisen.    20 Uhr  =0D=0A     Anna Barham    =0D=0A  Die K=C3=BCnstlerin liest   
     Michael Dodds      =E2=80=93 =C3=BCber das  Missverstehen von Namen\, di
 e Frage\, wie Stimmen Identit=C3=A4t hervorbringen\,  und dar=C3=BCber\, ob wi
 r uns in den Leerstellen begegnen k=C3=B6nnen\, in denen  Sprache auseinande
 rbricht.    =0D=0A     Samstag\, 25.4.2026      14 Uhr  =0D=0A     Antrianna Moutoul
 a    =0D=0A  =E2=80=9ENonstop languaging=E2=80=9C ist die Bezeichnung  f=C3=BCr
  eine autotheoretische Praxis\, bei der Antrianna Moutoula ihre  Gedankenstr
 =C3=B6me simultan in gesprochener und geschriebener Form  artikuliert. In  
        no more yet not yet      wendet  sie dieses Verfahren in Bezug auf 
 =C3=84u=C3=9Ferungen ihrer Gro=C3=9Fm=C3=BCtter im  Kontext von Demenz sowi
 e die ersten Sprachversuche ihrer Tochter an =E2=80=93 um  Sprache nachzuze
 ichnen\, bevor sie sich verfestigt\, und nachdem sie  zerf=C3=A4llt.  =0D=0A  =0D=0A 
  14:45 Uhr  =0D=0A     Sarah Hayden    =0D=0A       those slips\, that bump\, these l
 atencies      ist ein Lecture-Poem\, in dem: Seide sich ergie=C3=9Ft\, ohne z
 u verhaken.  Liebesbriefe (vorgeknickt) das Loch eines Lektors f=C3=BCllen.
  Da gibt es [=E2=80=A6]  Tauben? In Schl=C3=A4gen quer durch Amerika und au
 f Dachb=C3=B6den in ganz =E2=80=9EYurp=E2=80=9C  schlagen Konzeptualist:inn
 en die falschen Tasten an. Auf der Suche nach  L=C3=B6sungen: Kot an den Ze
 hen. In diesem Moment wird (anderswo) jemand  genau das\, was ich sage\, Wort
  f=C3=BCr Wort mittippen. Und/oder schnell.  =0D=0A  =0D=0A  [Pause\, mit=C2=A0Verpf
 legung]  =0D=0A  =0D=0A  16 Uhr  =0D=0A     =C3=9Clk=C3=BC S=C3=BCng=C3=BCn    =0D=0A  In i
 hrer partizipativen Performance       Takdir. Die Anerkennung      lehrt S
 =C3=BCng=C3=BCn den Besucher:innen die korrekte Aussprache der Namen der  O
 pfer der NSU-Mordserie. Der Chor der Teilnehmenden schafft ein  tempor=C3
 =A4res auditives Denkmal und l=C3=A4dt dazu ein\, =C3=BCber Erinnerungskultu
 r  im =C3=B6ffentlichen Raum nachzudenken.  =0D=0A  =0D=0A  17:00 Uhr  =0D=0A     Ella 
 Finer    =0D=0A  Als lyrischer Live-Essay f=C3=BCr die schwingenden Frequenzen 
 von     delirious mantra    entfaltet sich       words manner exclamation l
 ove deeds      anhand von Stimme\, Gesang und schemenhaften Zitaten wie eine
   Traumsequenz\, um dem =E2=80=9Elangen Echo=E2=80=9C von Barhams Werk nachz
 uhorchen und  durch Klang\, Sprache und die Architekturen ineinander =C3=BCb
 ergehender R=C3=A4ume  die Unfl=C3=BCssigkeiten von Geschichte laut zu denk
 en.  =0D=0A  =0D=0A  17:30 Uhr  =0D=0A     Ian Stonehouse    =0D=0A  Der Klangk=C3=BCnstler
  und Archivar Ian Stonehouse\, der mit Anna Barham an der r=C3=A4umlichen Um
 setzung der Audioarbeit     ZYX    gearbeitet hat\, spricht=C2=A0mit ihr =C3
 =BCber die Ausstellung und ihre Zusammenarbeit. Moderiert von Anja Casser u
 nd Moritz Nebenf=C3=BChr.  =0D=0A  =0D=0A  =0D=0A  Die Veranstaltungssprache ist Englis
 ch. Eintritt frei! =20
URL:https://kalender.karlsruhe.de/db/termine/ausstellungen/chorussing_through_the_grass
CLASS:PUBLIC
DTSTART:20260424T000000
DTEND:20260425T000000
DTSTAMP:20260422T104855
CATEGORIES:Kunst, Ausstellungen
ATTACH:https://kalender.karlsruhe.de/db/termine/ausstellungen/chorussing_through_the_grass/file/icon_chorussing image no text landscape(1).jpg
END:VEVENT

END:VCALENDAR
