BEGIN:VCALENDAR
VERSION:2.0
CALSCALE:GREGORIAN
PRODID:https://kalender.karlsruhe.de/db/termine/
METHOD:PUBLISH
BEGIN:VEVENT
UID:580926
ORGANIZER;CN=Zukunftsraum:MAILTO:info@quartierzukunft.de
LOCATION:Quartier Zukunft
SUMMARY:DemokraTEA-Time: 20 Jahre Einsatz für kulturelle Vielfalt
DESCRIPTION;ENCODING=QUOTED-PRINTABLE:Kunst-Ausstellung im Zukunftsraum zeigt Werke von Renate Helene Schweizer=0D=0A
 =0D=0A  Seit zwei Jahrzehnten verwendet die Eco-K=C3=BCnstlerin aus Karlsruhe g
 ebrauchte Teebeutel als Basis ihrer k=C3=BCnstlerischen Arbeit. Zum 20-j=C3
 =A4hrigen Jubil=C3=A4um pr=C3=A4sentiert das Quartier Zukunft eine neue Aus
 stellung im Zukunftsraum: =E2=80=9EDemokraTEA-Time=E2=80=9C. Von 10. bis 31
 . Mai 2026 werden verschiedene Exponate von Renate Helene Schweizer ausgest
 ellt. Ein Rahmenprogramm mit Schwerpunkt zur Demokratie begleitet die Kunst
 wochen.  =0D=0A    https://www.quartierzukunft.de/blog/demokratea-time.php  =0D=0A 
 =20
URL:https://kalender.karlsruhe.de/db/termine/ausstellungen/demokratea_time_20_jahre_einsatz_fur
CLASS:PUBLIC
DTSTART:20260510T140000
DTEND:20260531T160000
DTSTAMP:20260415T100909
CATEGORIES:Kunst, Ausstellungen
ATTACH:https://kalender.karlsruhe.de/db/termine/ausstellungen/demokratea_time_20_jahre_einsatz_fur/file/icon_IMG_2505.jpg
END:VEVENT

END:VCALENDAR
