BEGIN:VCALENDAR
VERSION:2.0
CALSCALE:GREGORIAN
PRODID:https://kalender.karlsruhe.de/db/termine/
METHOD:PUBLISH
BEGIN:VEVENT
UID:580702
ORGANIZER;CN=dokka e.V.:MAILTO:kontakt@dokka.de
LOCATION:Kinemathek Karlsruhe, Kaiserpassage 6,76133 Karlsruhe
SUMMARY:dokKa 13
DESCRIPTION;ENCODING=QUOTED-PRINTABLE:das Dokumentarfestival Karlsruhe=0D=0A=0D=0A  Das dokKa-Festival pr=C3=A4sentiert a
 ktuelle Dokumentarfilme und H=C3=B6rdokumentationen mit G=C3=A4sten im Kino
 . Am Mittwoch\, den 13. Mai\, um 19 Uhr er=C3=B6ffnet dokKa in der Kinemathek
 . =C3=9Cber den Feiertag (Do.) hinweg l=C3=A4uft das Festival bis Sonntag u
 nd pr=C3=A4sentiert ein vielf=C3=A4ltiges Programm aus Dokumentarfilmen und
  H=C3=B6rdokumentationen. Zu allen Programmpunkten finden im Foyer=C2=A0der
  Kinemathek=C2=A0Gespr=C3=A4che mit Filmemacher*innen und H=C3=B6rautoren/H
 =C3=B6rautorinnen=C2=A0statt. Weitere H=C3=B6hepunkte wie das dokKa-Fr=C3
 =BChst=C3=BCck\, die Filmschool Picks der Hochschule f=C3=BCr Gestaltung\, di
 e Festivalparty sowie der Branchentreff mit der AG DOK S=C3=BCdwest machen 
 dokKa zu einem einzigartigen Erlebnis.=C2=A0Drei ausgew=C3=A4hlte Filme wer
 den zudem in der Schauburg gezeigt. =20
URL:https://kalender.karlsruhe.de/db/termine/ausstellungen/dokka13n
CLASS:PUBLIC
DTSTART:20260513T190000
DTEND:20260517T221500
DTSTAMP:20260408T110844
CATEGORIES:Kunst, Ausstellungen
ATTACH:https://kalender.karlsruhe.de/db/termine/ausstellungen/dokka13n/file/icon_dokka-2025-web-_dmd2161_c.jpg.pagespeed.ce.FGSXg2Ob1j.jpg
END:VEVENT

END:VCALENDAR
