BEGIN:VCALENDAR
VERSION:2.0
CALSCALE:GREGORIAN
PRODID:https://kalender.karlsruhe.de/db/termine/
METHOD:PUBLISH
BEGIN:VEVENT
UID:580929
ORGANIZER;CN=Zukunftsraum:MAILTO:info@quartierzukunft.de
LOCATION:Zukunftsraum für Nachhaltigkeit und Wissenschaft
SUMMARY:Engagement für Vielfalt
DESCRIPTION;ENCODING=QUOTED-PRINTABLE:Im Rahmen der Ausstellung =E2=80=9EDemokraTEA-Time: 20 Jahre Einsatz f=C3
 =BCr kulturelle Vielfalt=E2=80=9C=0D=0A=0D=0A  Beitrag zum bundesweiten Aktionstag 
 =E2=80=9EZusammenhalt in Vielfalt=E2=80=9C am 21.05.2026 mit einer Einladun
 g zum Storytelling bei Tee und Friedenskeksen und Beteiligung zum Mitkn=C3
 =BCpfen am wachsenden =E2=80=9EWeltenB=C3=BCrgerNetz=E2=80=9C aus den Teebe
 utelf=C3=A4den.    F=C3=BCr die Besucher*innen gibt es die besten Friedensk
 ekse der Welt\, gebacken von der 91-j=C3=A4hrigen engagierten Karlsruherin H
 ilde Becker.    DemokraTEA-Time: 20 Jahre Einsatz f=C3=BCr kulturelle Vielf
 alt |    Seit zwei Jahrzehnten verwendet die international t=C3=A4tige Eco-
 K=C3=BCnstlerin Renate Helene Schweizer gebrauchte Teebeutel als Basis ihre
 r k=C3=BCnstlerischen Arbeit. Zum 20-j=C3=A4hrigen Jubil=C3=A4um zeigt das 
 Quartier Zukunft verschiedene Werke der Zero-Waste-K=C3=BCnstlerin im Zukun
 ftsraum.    Die Ausstellung =E2=80=9EDemokraTEA-Time=E2=80=9C l=C3=A4uft vo
 n 10. bis 31. Mai 2026 =20
URL:https://kalender.karlsruhe.de/db/termine/ausstellungen/engagement_fur_vielfalt
CLASS:PUBLIC
DTSTART:20260521T140000
DTEND:20260521T180000
DTSTAMP:20260415T100757
CATEGORIES:Kunst, Ausstellungen
ATTACH:https://kalender.karlsruhe.de/db/termine/ausstellungen/engagement_fur_vielfalt/file/icon_IMG_2513.jpg
END:VEVENT

END:VCALENDAR
