BEGIN:VCALENDAR
VERSION:2.0
CALSCALE:GREGORIAN
PRODID:https://kalender.karlsruhe.de/db/termine/
METHOD:PUBLISH
BEGIN:VEVENT
UID:580241
ORGANIZER;CN=Staatliches Museum für Naturkunde Karlsruhe:MAILTO:museum@naturkundeka-bw.de
LOCATION:Staatliches Museum für Naturkunde Karlsruhe
SUMMARY:Frag den Direktor!
DESCRIPTION;ENCODING=QUOTED-PRINTABLE:Offene Gespr=C3=A4chsrunde mit Prof. Dr. Martin Husemann\, Direktor des Natu
 rkundemuseums=0D=0A=0D=0A  Offene Gespr=C3=A4chsrunde mit Prof. Dr. Martin Husemann
 \, Direktor des Naturkundemuseums  =0D=0A  =0D=0A  Wer ist der Mnn an der Spitze des
  Museums? Welche Ideen und Pl=C3=A4ne gibt es f=C3=BCr die Zukunft des Haus
 es? Was tut sich in den Ausstellungen und in der Forschung? Fragen Sie ihn 
 einfach! Der Museumsdirektor l=C3=A4dt dazu ein\, Fragen zum Museum und sein
 er Arbeit zu stellen und mit ihm ins Gespr=C3=A4ch zu kommen.  =0D=0A  =0D=0A  Die 
 Teilnahme ist frei. =20
URL:https://kalender.karlsruhe.de/db/termine/ausstellungen/frag_den_direktor
CLASS:PUBLIC
DTSTART:20260612T153000
DTEND:20260612T164500
DTSTAMP:20260319T175557
CATEGORIES:Kunst, Ausstellungen
ATTACH:https://kalender.karlsruhe.de/db/termine/ausstellungen/frag_den_direktor/file/icon_20231114_Martin_Husemann_003-Edit_2.jpg
END:VEVENT

END:VCALENDAR
