BEGIN:VCALENDAR
VERSION:2.0
CALSCALE:GREGORIAN
PRODID:https://kalender.karlsruhe.de/db/termine/
METHOD:PUBLISH
BEGIN:VEVENT
UID:580977
ORGANIZER;CN=Bernd Hentschel:MAILTO:mail@berndhentschel.de
LOCATION:Rote Taube
SUMMARY:Freiflug: Aus dem Käfig auf die Straße
DESCRIPTION;ENCODING=QUOTED-PRINTABLE:Fotoausstellung am Zaun der Roten Taube=0D=0A=0D=0A  5 Jahre Wechselausstellung am 
 Zaun der Roten Taube.    26. April 2026 am 17 Uhr    Feiern und Erinnern mi
 t Live Musik von Justin Nove    Als Kunst "nicht systemrelevant" war\, kam s
 ie auf die Stra=C3=9Fe. Was als spontane Idee begann\, ist geblieben. Seit 2
 021 wird jede zweite Woche ein Bild am Zaun an der Stra=C3=9Fe getauscht.  
   www.tanz-fotografie.de    =0D=0A =20
URL:https://kalender.karlsruhe.de/db/termine/ausstellungen/freiflug_aus_dem_kafig_auf_die_strae
CLASS:PUBLIC
DTSTART:20260426T170000
DTEND:20260426T220000
DTSTAMP:20260417T091113
CATEGORIES:Kunst, Ausstellungen
ATTACH:https://kalender.karlsruhe.de/db/termine/ausstellungen/freiflug_aus_dem_kafig_auf_die_strae/file/icon_Aushang_Taube.jpg
END:VEVENT

END:VCALENDAR
