BEGIN:VCALENDAR
VERSION:2.0
CALSCALE:GREGORIAN
PRODID:https://kalender.karlsruhe.de/db/termine/
METHOD:PUBLISH
BEGIN:VEVENT
UID:570789
ORGANIZER;CN=KunstRaum Neureut e.V.:MAILTO:info@kunstraum-neureut.de
LOCATION:KunstRaum Neureut e.V.
SUMMARY:Früherland
DESCRIPTION;ENCODING=QUOTED-PRINTABLE:Lutz Sch=C3=A4fer und Thomas Heyl=0D=0A=0D=0A  Lutz Sch=C3=A4fer und Thomas Heyl ze
 igen eine begehbare Installation aus  Skulptur und Malerei. Graue Papiermac
 h=C3=A9-Arbeiten im Zentrum treten in  einen spannungsvollen Dialog mit far
 bintensiven Bildern an den W=C3=A4nden.     Zwischen Erinnerung und Imagina
 tion entsteht ein Erfahrungsraum    aus Form\, Farbe und Kontrast.  =0D=0A      
 =C3=96ffnungszeiten Samstags und Sonntags von 14 bis 17 Uhr    und nach Ver
 einbarung unter     info@kunstraum-neureut.de        Vernissage: SO 28.09.2
 025\, 14.00 Uhr =20
URL:https://kalender.karlsruhe.de/db/termine/ausstellungen/fruherland
CLASS:PUBLIC
DTSTART:20250928T140000
DTEND:20251026T170000
DTSTAMP:20250704T072423
CATEGORIES:Kunst, Ausstellungen
ATTACH:https://kalender.karlsruhe.de/db/termine/ausstellungen/fruherland/file/icon_Heyl&Schaefer.jpg
END:VEVENT

END:VCALENDAR
