BEGIN:VCALENDAR
VERSION:2.0
CALSCALE:GREGORIAN
PRODID:https://kalender.karlsruhe.de/db/termine/
METHOD:PUBLISH
BEGIN:VEVENT
UID:580815
ORGANIZER;CN=Kunstmuseum Karlsruhe:MAILTO:kunstmuseum@karlsruhe.de
LOCATION:Kunstmuseum Karlsruhe
SUMMARY:Führung „Expressiv! Grafik von Dürer bis Schlichter“
DESCRIPTION;ENCODING=QUOTED-PRINTABLE:mit Simone Jung=0D=0A=0D=0A      Expressiv! Grafik von D=C3=BCrer bis Schlichter   
  23.05. bis 04.10.2026    Gesten\, K=C3=B6rperhaltungen und Mimik machen Gef
 =C3=BChle sichtbar: Seit=C2=A0jeher besch=C3=A4ftigen sich K=C3=BCnstler*in
 nen mit Freude und Angst\, Wut\,=C2=A0Trauer oder Verzweiflung. Die Ausstellu
 ng =E2=80=9EExpressiv! Grafik von=C2=A0D=C3=BCrer bis Schlichter=E2=80=9C v
 ersammelt Werke aus f=C3=BCnf Jahrhunderten=C2=A0aus der Sammlung des Kunst
 museums und widmet sich der=C2=A0bildlichen Darstellung von Affekten.    =0D=0A
  =20
URL:https://kalender.karlsruhe.de/db/termine/ausstellungen/fuhrung_expressiv_grafik_von_durer_bis_schlichter-20
CLASS:PUBLIC
DTSTART:20260830T151500
DTEND:20260830T161500
DTSTAMP:20260415T100118
CATEGORIES:Kunst, Ausstellungen
ATTACH:https://kalender.karlsruhe.de/db/termine/ausstellungen/fuhrung_expressiv_grafik_von_durer_bis_schlichter-20/file/icon_1_Rembrandt, Selbstbildnis mit gerunzelter Stirn, 1630, Kunstmuseum Karlsruhe, Siegelsche Sammlung_vkl.jpg
END:VEVENT

END:VCALENDAR
