BEGIN:VCALENDAR
VERSION:2.0
CALSCALE:GREGORIAN
PRODID:https://kalender.karlsruhe.de/db/termine/
METHOD:PUBLISH
BEGIN:VEVENT
UID:580770
ORGANIZER;CN=Kunstmuseum Karlsruhe:MAILTO:kunstmuseum@karlsruhe.de
LOCATION:Kunstmuseum Karlsruhe
SUMMARY:Führung „Expressiv! Grafik von Dürer bis Schlichter“
DESCRIPTION;ENCODING=QUOTED-PRINTABLE:mit Dr. Hannah Reisinger=0D=0A=0D=0A      Expressiv! Grafik von D=C3=BCrer bis Schl
 ichter    23.05. bis 04.10.2026    Gesten\, K=C3=B6rperhaltungen und Mimik m
 achen Gef=C3=BChle sichtbar: Seit=C2=A0jeher besch=C3=A4ftigen sich K=C3=BC
 nstler*innen mit Freude und Angst\, Wut\,=C2=A0Trauer oder Verzweiflung. Die 
 Ausstellung =E2=80=9EExpressiv! Grafik von=C2=A0D=C3=BCrer bis Schlichter
 =E2=80=9C versammelt Werke aus f=C3=BCnf Jahrhunderten=C2=A0aus der Sammlun
 g des Kunstmuseums und widmet sich der=C2=A0bildlichen Darstellung von Affe
 kten.    =0D=0A =20
URL:https://kalender.karlsruhe.de/db/termine/ausstellungen/fuhrung_expressiv_grafik_von_durer_bis_schlichter-6
CLASS:PUBLIC
DTSTART:20260621T151500
DTEND:20260621T161500
DTSTAMP:20260415T100044
CATEGORIES:Kunst, Ausstellungen
ATTACH:https://kalender.karlsruhe.de/db/termine/ausstellungen/fuhrung_expressiv_grafik_von_durer_bis_schlichter-6/file/icon_1_Rembrandt, Selbstbildnis mit gerunzelter Stirn, 1630, Kunstmuseum Karlsruhe, Siegelsche Sammlung_vkl.jpg
END:VEVENT

END:VCALENDAR
