BEGIN:VCALENDAR
VERSION:2.0
CALSCALE:GREGORIAN
PRODID:https://kalender.karlsruhe.de/db/termine/
METHOD:PUBLISH
BEGIN:VEVENT
UID:580761
ORGANIZER;CN=Kunstmuseum Karlsruhe:MAILTO:kunstmuseum@karlsruhe.de
LOCATION:Kunstmuseum Karlsruhe
SUMMARY:Führung „Update! Die Sammlung neu sichten – Szenenwechsel 4“
DESCRIPTION;ENCODING=QUOTED-PRINTABLE:mit Dr. Elke Pastr=C3=A9=0D=0A=0D=0A  Update! Die Sammlung neu sichten =E2=80=93 Sz
 enenwechsel 4       Ab 23.05.2026       Mit =E2=80=9EUpdate! Die Sammlung n
 eu sichten=E2=80=9C pr=C3=A4sentiert das Kunstmuseum Karlsruhe seine Best
 =C3=A4nde in einem dynamischen Szenenwechsel. Rund 200 Werke von 70 K=C3=BC
 nstler*innen treten auf 1.500 Quadratmetern in medien- und epochen=C3=BCber
 greifende Dialoge. Themenr=C3=A4ume zu Identit=C3=A4t\, Ritualen\, Natur\, Ges
 chlechtergerechtigkeit\,=C2=A0Heimat und der Erfahrungen von Fremdheit verbi
 nden historische Positionen mit Gegenwartskunst. =20
URL:https://kalender.karlsruhe.de/db/termine/ausstellungen/fuhrung_update_die_sammlung_neu_sichten_szenenwechsel4n-1
CLASS:PUBLIC
DTSTART:20260607T151500
DTEND:20260607T161500
DTSTAMP:20260415T101144
CATEGORIES:Kunst, Ausstellungen
ATTACH:https://kalender.karlsruhe.de/db/termine/ausstellungen/fuhrung_update_die_sammlung_neu_sichten_szenenwechsel4n-1/file/icon_Kunstmuseum Karlsruhe_Foto_Anne-Sophie Stolz_klein.jpg
END:VEVENT

END:VCALENDAR
