BEGIN:VCALENDAR
VERSION:2.0
CALSCALE:GREGORIAN
PRODID:https://kalender.karlsruhe.de/db/termine/
METHOD:PUBLISH
BEGIN:VEVENT
UID:580788
ORGANIZER;CN=Kunstmuseum Karlsruhe:MAILTO:kunstmuseum@karlsruhe.de
LOCATION:Kunstmuseum Karlsruhe
SUMMARY:Führung „Update! Die Sammlung neu sichten – Szenenwechsel 4“
DESCRIPTION;ENCODING=QUOTED-PRINTABLE:mit Dr. Claudia Pohl=0D=0A=0D=0A  Update! Die Sammlung neu sichten =E2=80=93 Szenen
 wechsel 4       Ab 23.05.2026       Mit =E2=80=9EUpdate! Die Sammlung neu s
 ichten=E2=80=9C pr=C3=A4sentiert das Kunstmuseum Karlsruhe seine Best=C3=A4
 nde in einem dynamischen Szenenwechsel. Rund 200 Werke von 70 K=C3=BCnstler
 *innen treten auf 1.500 Quadratmetern in medien- und epochen=C3=BCbergreife
 nde Dialoge. Themenr=C3=A4ume zu Identit=C3=A4t\, Ritualen\, Natur\, Geschlech
 tergerechtigkeit\,=C2=A0Heimat und der Erfahrungen von Fremdheit verbinden h
 istorische Positionen mit Gegenwartskunst. =20
URL:https://kalender.karlsruhe.de/db/termine/ausstellungen/fuhrung_update_die_sammlung_neu_sichten_szenenwechsel4n-2
CLASS:PUBLIC
DTSTART:20260703T160000
DTEND:20260703T170000
DTSTAMP:20260415T101145
CATEGORIES:Kunst, Ausstellungen
ATTACH:https://kalender.karlsruhe.de/db/termine/ausstellungen/fuhrung_update_die_sammlung_neu_sichten_szenenwechsel4n-2/file/icon_Kunstmuseum Karlsruhe_Foto_Anne-Sophie Stolz_klein.jpg
END:VEVENT

END:VCALENDAR
