BEGIN:VCALENDAR
VERSION:2.0
CALSCALE:GREGORIAN
PRODID:https://kalender.karlsruhe.de/db/termine/
METHOD:PUBLISH
BEGIN:VEVENT
UID:573900
ORGANIZER;CN=Freundeskreis Badisches Malerdorf Grötzingen e.V.:MAILTO:malerdorf@gmx.de
LOCATION:Kunstfachwerk N6
SUMMARY:Grötzinger Kunstwochen #2
DESCRIPTION;ENCODING=QUOTED-PRINTABLE:Vier Wochen - Vier Ausstellungen Vernissage=0D=0A=0D=0A  Die     Gr=C3=B6tzinger Ku
 nstwochen #2    im     Kunstfachwerk N6    finden vom     Freitag\,     17  
      . Oktober bis       Sonntag\,        19. November      \,    statt und b
 ieten vier Wochen lang vier Ausstellungen.    Der Freundeskreis Badisches M
 alerdorf erm=C3=B6glicht K=C3=BCnstlerinnen und K=C3=BCnstlern\, die in Gr
 =C3=B6tzingen leben oder ihre Ateliers haben\, ihre Werke zu pr=C3=A4sentier
 en.      Vier Wochen =E2=80=93 vier Ausstellungen      Die Ausstellungen we
 rden in vier Gruppen pr=C3=A4sentiert\, wobei jede Gruppe ihre Werke     jew
 eils eine Woche    lang zeigt. Die Einteilung erfolgte durch eine zuf=C3=A4
 llige Auslosung.     Die       Vernissage      findet immer am       Freita
 g um 19 Uhr      statt.      Die Ausstellungszeiten sind wie folgt:        
 Montag bis Mittwoch      von       16 bis 19 Uhr\, Samstag 10 bis 13 Uhr    
   sowie       Sonntag      von       14 bis 18 Uhr      .      Jede Gruppe 
 von Kunstschaffenden organisiert und gestaltet ihre Ausstellung sowie die d
 azugeh=C3=B6rige Vernissage individuell. Vom 17.10. - 22.10. findet eine Ge
 samtschau aller K=C3=BCnstlerinnen und K=C3=BCnstler statt. Die Laudatio h
 =C3=A4lt R=C3=BCtger Boeddinghaus.    Die Termine der einzelnen Gruppen sin
 d wie folgt:      Gruppe 1 vom 24.10 - 29.10.2025:    Karlo Arheidt\, Leonor
 e Jock\, Brigitte Nowatzke-Kraft      Gruppe 2 vom 31.10. - 5.11.2025    : A
 nna Bohnert\, Esther Klauke\, Heidrun MalComes      Gruppe 3 vom 7.11. - 12.1
 1.2025:    Wolfgang Heiser\, Elisabeth M=C3=BCller-Quade\, Marny Staib      G
 ruppe 4 vom 14.11. - 19.11.2025:    Driss Ankour\,     Sibylle Dietmar-Reiss
 \,      Kirsten Niegel      Plakat: Esther Klauke =20
URL:https://kalender.karlsruhe.de/db/termine/ausstellungen/grotzinger_kunstwochen2n
CLASS:PUBLIC
DTSTART:20251017T000000
DTEND:20251119T000000
DTSTAMP:20250814T091909
CATEGORIES:Kunst, Ausstellungen
ATTACH:https://kalender.karlsruhe.de/db/termine/ausstellungen/grotzinger_kunstwochen2n/file/icon_25GKW_plakat_A4_neu_250808_162042.jpg
END:VEVENT

END:VCALENDAR
