BEGIN:VCALENDAR
VERSION:2.0
CALSCALE:GREGORIAN
PRODID:https://kalender.karlsruhe.de/db/termine/
METHOD:PUBLISH
BEGIN:VEVENT
UID:580987
ORGANIZER;CN=Stadtmuseum im Prinz-Max-Palais:MAILTO:stadtmuseum@kultur.karlsruhe.de
LOCATION:Stadtmuseum im Prinz-Max-Palais
SUMMARY:Hidden Stories. Gemälde erzählen Stadtgeschichte(n)
DESCRIPTION;ENCODING=QUOTED-PRINTABLE:F=C3=BChrung mit Georg Hertweck=0D=0A=0D=0A  Bei seiner F=C3=BChrung stellt Georg H
 ertweck eine Auswahl von Gem=C3=A4lden vor\, hinter denen sich =C3=BCberrasc
 hende Geschichten verbergen\, die vielf=C3=A4ltige Einblicke in die bewegte 
 Vergangenheit der Stadt Karlsruhe und in das Leben ihrer Bewohnerinnen und 
 Bewohner erm=C3=B6glichen.       Eine Anmeldung ist nicht erforderlich\, die
  Teilnahme an der F=C3=BChrung ist kostenlos bzw. im Eintrittspreis inbegri
 ffen.      Alfred Kusche\, Altes M=C3=BChlburger Tor im Schnee\, 1924-1950\, F
 oto: Stadt Karlsruhe/PIA\, M=C3=BCller-Gmelin     =20
URL:https://kalender.karlsruhe.de/db/termine/ausstellungen/hidden_stories_gemalde_erzahlen_stadtgeschichten-12
CLASS:PUBLIC
DTSTART:20260503T150000
DTEND:
DTSTAMP:20260417T120419
CATEGORIES:Kunst, Ausstellungen
ATTACH:https://kalender.karlsruhe.de/db/termine/ausstellungen/hidden_stories_gemalde_erzahlen_stadtgeschichten-12/file/icon_HiddenStories_Stadtmuseum2025_Kusche.jpg
END:VEVENT

END:VCALENDAR
