BEGIN:VCALENDAR
VERSION:2.0
CALSCALE:GREGORIAN
PRODID:https://kalender.karlsruhe.de/db/termine/
METHOD:PUBLISH
BEGIN:VEVENT
UID:580988
ORGANIZER;CN=Stadtmuseum im Prinz-Max-Palais:MAILTO:stadtmuseum@kultur.karlsruhe.de
LOCATION:Stadtmuseum im Prinz-Max-Palais
SUMMARY:Hidden Stories. Gemälde erzählen Stadtgeschichte(n)
DESCRIPTION;ENCODING=QUOTED-PRINTABLE:F=C3=BChrung mit Judith G=C3=B6hre | Freier Eintritt zum Internationalen Mu
 seumtag=0D=0A=0D=0A  Judith G=C3=B6hre=C2=A0f=C3=BChrt durch die Sonderausstellung 
 =E2=80=9EHidden Stories. Gem=C3=A4lde erz=C3=A4hlen Stadtgeschichte(n)=E2
 =80=9C im Stadtmuseum im Prinz-Max-Palais und stellt eine Auswahl von Gem
 =C3=A4lden vor\, hinter denen sich =C3=BCberraschende =E2=80=9Everborgene Ge
 schichten=E2=80=9C verbergen\, die vielf=C3=A4ltige Einblicke in die bewegte
  Vergangenheit der Stadt Karlsruhe und in das Leben ihrer Bewohnerinnen und
  Bewohner erm=C3=B6glichen.       Eine Anmeldung ist nicht erforderlich\, di
 e Teilnahme an der F=C3=BChrung ist ebenso wie der Museumseintritt anl=C3
 =A4sslich des=C2=A0Internationalen Museumstags am 17. Mai kostenlos.      F
 oto: Stadtmuseum      =0D=0A =20
URL:https://kalender.karlsruhe.de/db/termine/ausstellungen/hidden_stories_gemalde_erzahlen_stadtgeschichten-13
CLASS:PUBLIC
DTSTART:20260517T150000
DTEND:
DTSTAMP:20260417T121143
CATEGORIES:Kunst, Ausstellungen
ATTACH:https://kalender.karlsruhe.de/db/termine/ausstellungen/hidden_stories_gemalde_erzahlen_stadtgeschichten-13/file/icon_hiddenstories2.jpg
END:VEVENT

END:VCALENDAR
