BEGIN:VCALENDAR
VERSION:2.0
CALSCALE:GREGORIAN
PRODID:https://kalender.karlsruhe.de/db/termine/
METHOD:PUBLISH
BEGIN:VEVENT
UID:580148
ORGANIZER;CN=Künstlergruppe 12plus:MAILTO:hugo@arte-classica.de
LOCATION:Gewölbekeller im Rathaus Durlach
SUMMARY:Im Wandel der Zeit
DESCRIPTION;ENCODING=QUOTED-PRINTABLE:Kunstausstellung MALEREI und SKULPTUR=0D=0A=0D=0A  Vom 24. =E2=80=93 26.04.26 zeigt
  die=C2=A0K=C3=BCnstlergruppe 12 plus=C2=A0Malereien und Skulpturen in unte
 rschiedlichen Techniken unter dem Titel =E2=80=9EIm Wandel der Zeit=E2=80
 =9C. Die Vernissage findet im historischen Gew=C3=B6lbekeller des Durlacher
  Rathauses in der Pfinztalstr. 33 statt. Er=C3=B6ffnet wird die Ausstellung
  am Freitag\, 24. April 2026 um 19 Uhr mit einem Sektempfang. Jeweils am Sam
 stag von 11 - 19 Uhr und Sonntag von 11 =E2=80=93 17 Uhr gibt es zus=C3=A4t
 zlich die M=C3=B6glichkeit sich mit den K=C3=BCnstlerinnen und K=C3=BCnstle
 rn in den R=C3=A4umlichkeiten in einem kreativen Dialog auszutauschen =20
URL:https://kalender.karlsruhe.de/db/termine/ausstellungen/im_wandel_der_zeit
CLASS:PUBLIC
DTSTART:20260424T190000
DTEND:20260426T000000
DTSTAMP:20260324T100451
CATEGORIES:Kunst, Ausstellungen
ATTACH:https://kalender.karlsruhe.de/db/termine/ausstellungen/im_wandel_der_zeit/file/icon_6dcd079f-1aa9-4848-88f3-cd8c11636cc3.jpg
END:VEVENT

END:VCALENDAR
