BEGIN:VCALENDAR
VERSION:2.0
CALSCALE:GREGORIAN
PRODID:https://kalender.karlsruhe.de/db/termine/
METHOD:PUBLISH
BEGIN:VEVENT
UID:580777
ORGANIZER;CN=ZKM | Zentrum für Kunst und Medien Karlsruhe:MAILTO:info@zkm.de
LOCATION:Zentrum für Kunst und Medien (ZKM)
SUMMARY:Kaffee, Kuchen, Meerschweinchen
DESCRIPTION;ENCODING=QUOTED-PRINTABLE:Museumsbesuch f=C3=BCr Menschen mit Demenz und ihre Zugeh=C3=B6rigen=0D=0A=0D=0A  A
 m 8. Mai laden Anna Ziegler\, Gerontologin\, und Birgit Gro=C3=9Fhans\, Ged=C3
 =A4chtnistrainerin\, ins ZKM ein.    Entdecken Sie zehn interaktive Roboterm
 eerschweinchen\, die auf Ber=C3=BChrung und Ansprache reagieren =E2=80=93 fl
 auschig\, neugierig und ein bisschen k=C3=BCnstlich. Sie sind herzlich einge
 laden\, diese ungew=C3=B6hnlichen kleinen Wesen zu erforschen und anschlie
 =C3=9Fend gemeinsam bei Kaffee und Kuchen zusammenkommen.    Die Veranstalt
 ung dauert 1\,5 Stunden. Die Teilnahme ist f=C3=BCr Sie kostenlos. =20
URL:https://kalender.karlsruhe.de/db/termine/ausstellungen/kaffee_kuchen_meerschweinchen
CLASS:PUBLIC
DTSTART:20260508T150000
DTEND:20260508T163000
DTSTAMP:20260415T100309
CATEGORIES:Kunst, Ausstellungen
ATTACH:https://kalender.karlsruhe.de/db/termine/ausstellungen/kaffee_kuchen_meerschweinchen/file/icon_E6E9951A-0609-4D87-B3D1-D5B8B70D3A91.jpg
END:VEVENT

END:VCALENDAR
