BEGIN:VCALENDAR
VERSION:2.0
CALSCALE:GREGORIAN
PRODID:https://kalender.karlsruhe.de/db/termine/
METHOD:PUBLISH
BEGIN:VEVENT
UID:580804
ORGANIZER;CN=Kunstmuseum Karlsruhe:MAILTO:kunstmuseum@karlsruhe.de
LOCATION:Kunstmuseum Karlsruhe
SUMMARY:KAMUNA – Karlsruher Museumsnacht
DESCRIPTION;ENCODING=QUOTED-PRINTABLE:Veranstaltung von 18 bis 24 Uhr=0D=0A=0D=0A  1. August 2026\, 18 bis 24 Uhr       KA
 MUNA =E2=80=93 Karlsruher Museumsnacht       Eine Nacht voller Kunst\, Kultu
 r und Entdeckungen: Im=C2=A0Kunstmuseum Karlsruhe erwartet Euch ein vielf
 =C3=A4ltiges Programm=C2=A0in den Ausstellungen =E2=80=9EExpressiv! Grafik 
 von D=C3=BCrer bis Schlichter=E2=80=9C\,=C2=A0=E2=80=9ETino Zimmermann. Neue
  Deutsche Malerei=E2=80=9C und =E2=80=9EUpdate! Die=C2=A0Sammlung neu sicht
 en =E2=80=93 Szenenwechsel 4=E2=80=9C.      Mehr unter www.kamuna.de =20
URL:https://kalender.karlsruhe.de/db/termine/ausstellungen/kamuna_karlsruher_museumsnacht
CLASS:PUBLIC
DTSTART:20260801T180000
DTEND:20260801T235900
DTSTAMP:20260415T101028
CATEGORIES:Kunst, Ausstellungen
ATTACH:https://kalender.karlsruhe.de/db/termine/ausstellungen/kamuna_karlsruher_museumsnacht/file/icon_27_KAMUNA_2024_Bruno_Kelzer_vkl.jpg
END:VEVENT

END:VCALENDAR
