BEGIN:VCALENDAR
VERSION:2.0
CALSCALE:GREGORIAN
PRODID:https://kalender.karlsruhe.de/db/termine/
METHOD:PUBLISH
BEGIN:VEVENT
UID:580792
ORGANIZER;CN=Kunstmuseum Karlsruhe:MAILTO:kunstmuseum@karlsruhe.de
LOCATION:Kunstmuseum Karlsruhe
SUMMARY:Kinderwerkstatt „Druckreif! Experimentelle Druckwerkstatt“
DESCRIPTION;ENCODING=QUOTED-PRINTABLE:mit Silke Stimmler=0D=0A=0D=0A
URL:https://kalender.karlsruhe.de/db/termine/ausstellungen/kinderwerkstatt_druckreif_experimentelle_druckwerkstatt-7
CLASS:PUBLIC
DTSTART:20260712T150000
DTEND:20260712T163000
DTSTAMP:20260415T101215
CATEGORIES:Kunst, Ausstellungen
ATTACH:https://kalender.karlsruhe.de/db/termine/ausstellungen/kinderwerkstatt_druckreif_experimentelle_druckwerkstatt-7/file/icon_Kunstmuseum Karlsruhe_Kinderwerkstatt_verkl..jpg
END:VEVENT

END:VCALENDAR
