BEGIN:VCALENDAR
VERSION:2.0
CALSCALE:GREGORIAN
PRODID:https://kalender.karlsruhe.de/db/termine/
METHOD:PUBLISH
BEGIN:VEVENT
UID:580800
ORGANIZER;CN=Kunstmuseum Karlsruhe:MAILTO:kunstmuseum@karlsruhe.de
LOCATION:Kunstmuseum Karlsruhe
SUMMARY:Kinderwerkstatt „Einfach magisch! Fotogramme mit der Cyanotypie“
DESCRIPTION;ENCODING=QUOTED-PRINTABLE:mit Dr. Hannah Reisinger=0D=0A=0D=0A
URL:https://kalender.karlsruhe.de/db/termine/ausstellungen/kinderwerkstatt_einfach_magisch_fotogramme-5
CLASS:PUBLIC
DTSTART:20260726T150000
DTEND:20260726T163000
DTSTAMP:20260415T101216
CATEGORIES:Kunst, Ausstellungen
ATTACH:https://kalender.karlsruhe.de/db/termine/ausstellungen/kinderwerkstatt_einfach_magisch_fotogramme-5/file/icon_Kunstmuseum Karlsruhe_Kinderwerkstatt_verkl..jpg
END:VEVENT

END:VCALENDAR
