BEGIN:VCALENDAR
VERSION:2.0
CALSCALE:GREGORIAN
PRODID:https://kalender.karlsruhe.de/db/termine/
METHOD:PUBLISH
BEGIN:VEVENT
UID:580765
ORGANIZER;CN=Kunstmuseum Karlsruhe:MAILTO:kunstmuseum@karlsruhe.de
LOCATION:Kunstmuseum Karlsruhe
SUMMARY:Kinderwerkstatt „Hau das Bild! Unterwegs in der Skulpturenwerkstatt“
DESCRIPTION;ENCODING=QUOTED-PRINTABLE:mit Jennifer Hauer=0D=0A=0D=0A
URL:https://kalender.karlsruhe.de/db/termine/ausstellungen/kinderwerkstatt_hau_das_bild_unterwegs-6
CLASS:PUBLIC
DTSTART:20260614T150000
DTEND:20260614T163000
DTSTAMP:20260415T101216
CATEGORIES:Kunst, Ausstellungen
ATTACH:https://kalender.karlsruhe.de/db/termine/ausstellungen/kinderwerkstatt_hau_das_bild_unterwegs-6/file/icon_Kunstmuseum Karlsruhe_Kinderwerkstatt_verkl..jpg
END:VEVENT

END:VCALENDAR
