BEGIN:VCALENDAR
VERSION:2.0
CALSCALE:GREGORIAN
PRODID:https://kalender.karlsruhe.de/db/termine/
METHOD:PUBLISH
BEGIN:VEVENT
UID:580797
ORGANIZER;CN=Kunstmuseum Karlsruhe:MAILTO:kunstmuseum@karlsruhe.de
LOCATION:Kunstmuseum Karlsruhe
SUMMARY:Kinderwerkstatt „Ich und du – Jedes Gesicht ist einzigartig“
DESCRIPTION;ENCODING=QUOTED-PRINTABLE:mit Danae Hoffmann=0D=0A=0D=0A
URL:https://kalender.karlsruhe.de/db/termine/ausstellungen/kinderwerkstatt_ich_und_du_jedes_gesicht-2
CLASS:PUBLIC
DTSTART:20260719T150000
DTEND:20260719T163000
DTSTAMP:20260415T101217
CATEGORIES:Kunst, Ausstellungen
ATTACH:https://kalender.karlsruhe.de/db/termine/ausstellungen/kinderwerkstatt_ich_und_du_jedes_gesicht-2/file/icon_Kunstmuseum Karlsruhe_Kinderwerkstatt_verkl..jpg
END:VEVENT

END:VCALENDAR
