BEGIN:VCALENDAR
VERSION:2.0
CALSCALE:GREGORIAN
PRODID:https://kalender.karlsruhe.de/db/termine/
METHOD:PUBLISH
BEGIN:VEVENT
UID:580776
ORGANIZER;CN=ZKM | Zentrum für Kunst und Medien Karlsruhe:MAILTO:info@zkm.de
LOCATION:Zentrum für Kunst und Medien (ZKM)
SUMMARY:Kleider- und Bücherbasar
DESCRIPTION;ENCODING=QUOTED-PRINTABLE:St=C3=B6bern\, Schm=C3=B6kern\, Gutes tun=0D=0A=0D=0A  Der allj=C3=A4hrliche Afterwor
 k Kleider- und B=C3=BCcherbasar findet wieder auf der gr=C3=BCnen Insel vor
  dem ZKM statt. Das ZKM-Team hat Schr=C3=A4nke und Regale gr=C3=BCndlich du
 rchforstet und bringt Kleider\, Taschen\, Schmuck und mehr mit =E2=80=93 lieb
 evoll ausgew=C3=A4hlt und bereit f=C3=BCr ein zweites Leben. Auch unsere Bi
 bliothek steuert wie immer eine Auswahl besonderer B=C3=BCcher bei.    Dazu
  gibt es gute Musik\, k=C3=BChle Getr=C3=A4nke und jede Menge Gelegenheit zu
 m Austausch. Wer also auf der Suche nach einem neuen Lieblingsteil ist und 
 dabei dem Onlinehandel eine Absage erteilen m=C3=B6chte\, ist bei unserem Kl
 eiderbasar unter freiem Himmel genau richtig!    Die Einnahmen werden f=C3
 =BCr einen guten Zweck gespendet. =20
URL:https://kalender.karlsruhe.de/db/termine/ausstellungen/kleider_und_bucherbasar
CLASS:PUBLIC
DTSTART:20260507T170000
DTEND:20260507T200000
DTSTAMP:20260415T101351
CATEGORIES:Kunst, Ausstellungen
ATTACH:https://kalender.karlsruhe.de/db/termine/ausstellungen/kleider_und_bucherbasar/file/icon_IMG_4339.jpg
END:VEVENT

END:VCALENDAR
