BEGIN:VCALENDAR
VERSION:2.0
CALSCALE:GREGORIAN
PRODID:https://kalender.karlsruhe.de/db/termine/
METHOD:PUBLISH
BEGIN:VEVENT
UID:579249
ORGANIZER;CN=Badischer Kunstverein:MAILTO:info@badischer-kunstverein.de
LOCATION:Badischer Kunstverein
SUMMARY:kostenlose Führung durch die aktuelle Ausstellung
DESCRIPTION;ENCODING=QUOTED-PRINTABLE:Anna Barham: delirious mantra=0D=0A=0D=0A  In einem digitalen Kontext\, der uns dazu
  verleitet\, an eine nahtlose und unmittelbare Kommunikation zu glauben\, wir
 d die k=C3=B6rperliche Reibung in der Sprache zu etwas\, das gegl=C3=A4ttet 
 werden muss. Systeme wie die automatische Spracherkennung sind gepr=C3=A4gt
  von hegemonialen Vorstellungen dar=C3=BCber\, welche Stimmen z=C3=A4hlen un
 d welche linguistischen Formen es wert sind\, anerkannt zu werden.  =0D=0A  =0D=0A  
 Anna Barham (*1974\, Sutton Coldfield)\, die im Badischen Kunstverein ihre er
 ste umfassende Einzelausstellung in Deutschland pr=C3=A4sentiert\, entzieht 
 sich dieser Gl=C3=A4ttung von Sprache und r=C3=BCckt stattdessen das Un=C3
 =BCbersetzbare und nicht Reduzierbare ins Zentrum unserer Aufmerksamkeit. I
 hre k=C3=BCnstlerische Praxis verbindet Sprache mit dem Bildlichen und Perf
 ormativen\, um herauszukristallisieren\, welche assoziativen Bedeutungen eine
 m Wort inh=C3=A4rent sein k=C3=B6nnen\, aber erst durch eine neue Verschiebu
 ng seiner einzelnen Teile zum Vorschein treten.  =0D=0A  =0D=0A  Barham behandelt S
 prache sowohl als plastisches als auch akustisches Material und f=C3=BCllt 
 die Ausstellung mit Sounds und Stimmen. H=C3=A4nde formen und verformen Buc
 hstaben aus geometrischen Fl=C3=A4chen\; Text schl=C3=A4ngelt sich durch die
  Ausstellungsr=C3=A4ume\, um die institutionelle Architektur und ihrer Ausst
 attung herum und dar=C3=BCber hinweg\; ein gro=C3=9Fformatiger UV-Drucker pr
 oduziert W=C3=B6rter und Bilder\; und aus dem entferntesten Raum ert=C3=B6nt
  der unaufh=C3=B6rliche Ruf einer Zikade.  =0D=0A  =0D=0A  Seit 2013 arbeitet Anna 
 Barham mit der Fehleranf=C3=A4lligkeit von Spracherkennungen\, um neue Bedeu
 tungen zu erschlie=C3=9Fen sowie die Materialit=C3=A4t der Stimme und ihre 
 Unterbrechungen in den Vordergrund zu stellen. F=C3=BCr die K=C3=BCnstlerin
  sind es genau diese Texturen und Prozesse des Verh=C3=B6rens\, die das Pote
 nzial der Stimme ausmachen. In ihrer neuen Soundarbeit     ZYX    (2026) be
 trachtet sie die durch automatische Spracherkennung verursachten Fehler als
  Halluzinationen.  =0D=0A  Was zun=C3=A4chst wie ein falsch wahrgenommener Text
  anmutet\, ist stattdessen eine neue Art des Denkens und Schreibens in radik
 aler Opposition zur Automatisierung\, Normierung und Autorit=C3=A4t.  =0D=0A  =0D=0A
   Kuratiert von Anja Casser  =0D=0A  =0D=0A  Die Ausstellung wird gef=C3=B6rdert du
 rch den Innovationsfonds Kunst des Ministeriums f=C3=BCr Wissenschaft\, Fors
 chung und Kunst Baden-W=C3=BCrttemberg und ist bis zum 14.6.2026 zu sehen. 
      Anna Barham    (*1974\, Sutton Coldfield) lebt und arbeitet  in London.
  Sie arbeitet mit Video\, Sound\, Print\, Installation und  Performance. In ih
 rer Arbeit besch=C3=A4ftigt sie sich mit Sprache\, die sich  zwischen versch
 iedenen materiellen Formen\, Technologien und K=C3=B6rpern  bewegt. Barham s
 tudierte Mathematik und Philosophie an der Universit=C3=A4t  Cambridge\, bev
 or sie von 1997 bis 2001 Kunst an der Slade School of Fine  Art in London s
 tudierte. 2019 war sie Artist in Residence am St John's  College der Univer
 sit=C3=A4t Oxford. Sie ist Dozentin an der Ruskin School of  Art in Oxford 
 sowie an der University of the Arts in London und  schlie=C3=9Ft derzeit ih
 ren praxisorientierten PhD an der Universit=C3=A4t Oxford  ab. Ihre Werke s
 ind in bedeutenden Sammlungen vertreten\,  darunter die Tate\, die Government
  Art Collection und das Victoria &  Albert Museum in London\, das SFMOMA in 
 San Francisco und das Centro  Galego de Arte Contempor=C3=A1nea (CGAC) in S
 antiago de Compostela. =20
URL:https://kalender.karlsruhe.de/db/termine/ausstellungen/kostenlose_fuhrung_durch_die_aktuelle_ausstellung-3
CLASS:PUBLIC
DTSTART:20260610T180000
DTEND:20260610T190000
DTSTAMP:20260223T081247
CATEGORIES:Kunst, Ausstellungen
ATTACH:https://kalender.karlsruhe.de/db/termine/ausstellungen/kostenlose_fuhrung_durch_die_aktuelle_ausstellung-3/file/icon__V5A2604_klein.jpg
END:VEVENT

END:VCALENDAR
