BEGIN:VCALENDAR
VERSION:2.0
CALSCALE:GREGORIAN
PRODID:https://kalender.karlsruhe.de/db/termine/
METHOD:PUBLISH
BEGIN:VEVENT
UID:578734
ORGANIZER;CN=Bildungszentrum Roncalli-Forum Karlsruhe (Bildungswerk der Erzdiözese Freiburg):MAILTO:info@roncalli-forum.de
LOCATION:Marktplatz Karlsruhe
SUMMARY:Kunst im Untergrund. Die "Genesis" Keramiktafeln von Markus Lüpertz in der Karlsruher U-Strab
DESCRIPTION;ENCODING=QUOTED-PRINTABLE:F=C3=BChrung mit Prof. DDr. Bernd Feininger\, Gengenbach=0D=0A=0D=0A  Prof. DDr. Ber
 nd Feininger\, geb. 1948\, war seit 1990/91 Professor an der P=C3=A4dagogisch
 en Hochschule Freiburg am Institut f=C3=BCr Evangelische und Katholische Th
 eologie/Religionsp=C3=A4dagogik. Arbeitsschwerpunkte: Bibel\,besonders das A
 lte Testament\, Religionsgeschichte\, Fundamentaltheologie.    Markus L=C3=BC
 pertz\, einer der ganz Gro=C3=9Fen der Bildenden K=C3=BCnstler der Gegenwart
 \, schuf die viel bewunderten Reliefs f=C3=BCr die Bahnsteige der Karlsruher
  U-Bahn. Vierzehn gro=C3=9Fe Tafeln\, davon spielen sechs "im Untergrund" mi
 t mythologischen Szenen\, zwei davon sind biblischen Ursprungs. Thema Genesi
 s: Urspr=C3=BCngliche als Zusammenklang der sieben Tage der Sch=C3=B6pfung 
 gedacht wurde daraus eine Bilderfolge zur Entstehung derWelt aus ihren Ur-E
 lementen und zu existenziellen Lebensthemen. Tod und Verg=C3=A4nglichkeit\, 
 Hoffnung\, Liebe und Verlust. Griechische Mythologie\, Gilgamesch und das alt
 e Mesopotamien oder Dante mit der G=C3=B6ttlichen Kom=C3=B6die auf seiner R
 eise in die Unterwelt: Es gibt viel zu sehen\, und das auf k=C3=BCnstlerisch
  provokante Weise.    16:45 Uhr: Treffpunkt Marktplatz an der Pyramide    1
 7:00 Uhr: Beginn der F=C3=BChrung    Sie ben=C3=B6tigen ein g=C3=BCltiges T
 icket f=C3=BCr den KVV      Verbindliche Anmeldung    schnellstm=C3=B6glich
 \, da nur begrenzte Platzanzahl. Schriftlich oder per Mail m=C3=B6glich. Bei
  Nachfragen: Tel.: 0721 89357713\, Di von 10 - 14 Uhr und Do von 11-15 Uhr. 
    Mail: kulturveranstaltung@kunst-und-theatergemeinde.de    Reiser=C3=BCck
 tritt nur m=C3=B6glich\, sofern Ersatz gefunden wird. Bitte Teilnahmebetrag 
 von 15.- =E2=82=AC erst nach Erhalt des =C3=9Cberweisungsvordrucks anweisen
 .    Veranstalter: Kunst- und Theatergemeinde Karlsruhe e.V. in Kooperation
  mit dem Roncalli-Forum Karlsruhe =20
URL:https://kalender.karlsruhe.de/db/termine/ausstellungen/kunst_im_untergrund_die_genesis_keramiktafeln
CLASS:PUBLIC
DTSTART:20260301T164500
DTEND:20260301T183000
DTSTAMP:20260203T152758
CATEGORIES:Kunst, Ausstellungen
ATTACH:https://kalender.karlsruhe.de/db/termine/ausstellungen/kunst_im_untergrund_die_genesis_keramiktafeln/file/icon_Logo BZ RoFo kleiner.jpg
END:VEVENT

END:VCALENDAR
