BEGIN:VCALENDAR
VERSION:2.0
CALSCALE:GREGORIAN
PRODID:https://kalender.karlsruhe.de/db/termine/
METHOD:PUBLISH
BEGIN:VEVENT
UID:580775
ORGANIZER;CN=Städtische Galerie Karlsruhe:MAILTO:staedtische-galerie@karlsruhe.de
LOCATION:Städtische Galerie Karlsruhe
SUMMARY:Kunsthäppchen „Gefühle unter Strom – Expressionen gestern und heute“
DESCRIPTION;ENCODING=QUOTED-PRINTABLE:mit Dr. Martina Wehlte=0D=0A=0D=0A
URL:https://kalender.karlsruhe.de/db/termine/ausstellungen/kunsthappchen_gefuhle_unter_strom_expressionen
CLASS:PUBLIC
DTSTART:20260701T150000
DTEND:20260701T154500
DTSTAMP:20260415T100322
CATEGORIES:Kunst, Ausstellungen
ATTACH:https://kalender.karlsruhe.de/db/termine/ausstellungen/kunsthappchen_gefuhle_unter_strom_expressionen/file/icon_icon_kunsthaeppchen_verkl.jpg
END:VEVENT

END:VCALENDAR
