BEGIN:VCALENDAR
VERSION:2.0
CALSCALE:GREGORIAN
PRODID:https://kalender.karlsruhe.de/db/termine/
METHOD:PUBLISH
BEGIN:VEVENT
UID:580762
ORGANIZER;CN=Städtische Galerie Karlsruhe:MAILTO:staedtische-galerie@karlsruhe.de
LOCATION:Städtische Galerie Karlsruhe
SUMMARY:Kunsthäppchen „Grenzen des Körpers – Kunst zwischen Verletzlichkeit und Stärke“
DESCRIPTION;ENCODING=QUOTED-PRINTABLE:mit Dr. Claudia Pohl=0D=0A=0D=0A
URL:https://kalender.karlsruhe.de/db/termine/ausstellungen/kunsthappchen_grenzen_des_korpers_kunst
CLASS:PUBLIC
DTSTART:20260610T150000
DTEND:20260610T154500
DTSTAMP:20260408T112121
CATEGORIES:Kunst, Ausstellungen
ATTACH:https://kalender.karlsruhe.de/db/termine/ausstellungen/kunsthappchen_grenzen_des_korpers_kunst/file/icon_icon_kunsthaeppchen_verkl.jpg
END:VEVENT

END:VCALENDAR
