BEGIN:VCALENDAR
VERSION:2.0
CALSCALE:GREGORIAN
PRODID:https://kalender.karlsruhe.de/db/termine/
METHOD:PUBLISH
BEGIN:VEVENT
UID:580731
ORGANIZER;CN=Städtische Galerie Karlsruhe:MAILTO:staedtische-galerie@karlsruhe.de
LOCATION:Städtische Galerie Karlsruhe
SUMMARY:Kunsthäppchen „Wer bestimmt den Kanon? – Frauen in der Kunst neu betrachtet“
DESCRIPTION;ENCODING=QUOTED-PRINTABLE:mit Dr. Claudia Pohl=0D=0A=0D=0A
URL:https://kalender.karlsruhe.de/db/termine/ausstellungen/kunsthappchen_wer_bestimmt_den_kanon
CLASS:PUBLIC
DTSTART:20260506T150000
DTEND:20260506T154500
DTSTAMP:20260408T111108
CATEGORIES:Kunst, Ausstellungen
ATTACH:https://kalender.karlsruhe.de/db/termine/ausstellungen/kunsthappchen_wer_bestimmt_den_kanon/file/icon_icon_kunsthaeppchen_verkl.jpg
END:VEVENT

END:VCALENDAR
