BEGIN:VCALENDAR
VERSION:2.0
CALSCALE:GREGORIAN
PRODID:https://kalender.karlsruhe.de/db/termine/
METHOD:PUBLISH
BEGIN:VEVENT
UID:580807
ORGANIZER;CN=Städtische Galerie Karlsruhe:MAILTO:staedtische-galerie@karlsruhe.de
LOCATION:Städtische Galerie Karlsruhe
SUMMARY:Kunsthäppchen „Zwischen Handwerk und Konzept – Was ist „echte“ Kunst?“
DESCRIPTION;ENCODING=QUOTED-PRINTABLE:mit Dr. Claudia Pohl=0D=0A=0D=0A
URL:https://kalender.karlsruhe.de/db/termine/ausstellungen/kunsthappchen_zwischen_handwerk_und
CLASS:PUBLIC
DTSTART:20260812T150000
DTEND:20260812T154500
DTSTAMP:20260415T100141
CATEGORIES:Kunst, Ausstellungen
ATTACH:https://kalender.karlsruhe.de/db/termine/ausstellungen/kunsthappchen_zwischen_handwerk_und/file/icon_icon_kunsthaeppchen_verkl.jpg
END:VEVENT

END:VCALENDAR
