BEGIN:VCALENDAR
VERSION:2.0
CALSCALE:GREGORIAN
PRODID:https://kalender.karlsruhe.de/db/termine/
METHOD:PUBLISH
BEGIN:VEVENT
UID:580779
ORGANIZER;CN=ZKM | Zentrum für Kunst und Medien Karlsruhe:MAILTO:info@zkm.de
LOCATION:Zentrum für Kunst und Medien (ZKM)
SUMMARY:Mittwochstreff: Mehr Lob, bitte!
DESCRIPTION;ENCODING=QUOTED-PRINTABLE:Ein Workshop rund um Lob\, gute Worte und kreative Karten=0D=0A=0D=0A  Wie sprechen 
 wir eigentlich miteinander? In diesem Workshop geht es um Lob\, Komplimente 
 und gute Worte =E2=80=93 und darum\, wie sie N=C3=A4he\, Vertrauen und Gemein
 schaft schaffen k=C3=B6nnen.    Wir tauschen uns locker aus\, lachen\, erz=C3
 =A4hlen und probieren gemeinsam\, was ein ehrliches Lob ausmacht und warum m
 anche Worte besonders guttun.    Im kreativen Teil gestalten wir Lob- und F
 reudekarten mit Stempelbuchstaben\, kleinen LED-Lichtern und anderen spannen
 den Materialien. Karten f=C3=BCr andere =E2=80=93 oder als kleine Erinnerun
 g f=C3=BCr sich selbst.    Jeden zweiten Mittwoch im Monat laden wir euch e
 in\, tolle Leute zu treffen und gemeinsam neue Ideen zu entwickeln. Wir trin
 ken zusammen Tee\, reden miteinander und probieren ein spannendes\, kreatives
  Angebot aus =E2=80=93 ohne Stress oder Druck. Wer Lust hat\, macht mit oder
  hilft anderen.    Neugierig geworden? Kommt einfach vorbei! =20
URL:https://kalender.karlsruhe.de/db/termine/ausstellungen/mittwochstreff_mehr_lob_bitte
CLASS:PUBLIC
DTSTART:20260513T150000
DTEND:20260513T170000
DTSTAMP:20260415T102700
CATEGORIES:Kunst, Ausstellungen
ATTACH:https://kalender.karlsruhe.de/db/termine/ausstellungen/mittwochstreff_mehr_lob_bitte/file/icon_20250328_ZKM_Eroffnung_TheVoiceOfWomen_058_web.jpg
END:VEVENT

END:VCALENDAR
