BEGIN:VCALENDAR
VERSION:2.0
CALSCALE:GREGORIAN
PRODID:https://kalender.karlsruhe.de/db/termine/
METHOD:PUBLISH
BEGIN:VEVENT
UID:579800
ORGANIZER;CN=Messe-Karlsruhe Veranstaltungen:MAILTO:
LOCATION:Schwarzwaldhalle / Kongresszentrum Karlsruhe
SUMMARY:Münzmesse November 2026
DESCRIPTION;ENCODING=QUOTED-PRINTABLE:=C2=A0=0D=0A=0D=0A      Wichtige Informationen zur Anreise und Parkm=C3=B6glichkeit
 en    =0D=0A      =0D=0A   Bei Gro=C3=9Fveranstaltungen oder parallel stattfindende
 n Veranstaltungen kann es zu Engp=C3=A4ssen bei der Verf=C3=BCgbarkeit unse
 rer Parkpl=C3=A4tze kommen. Bitte beachten Sie\, dass das Verkehrsleitsystem
  die Belegung der Tiefgarage nicht in Echtzeit anzeigt. Daher empfehlen wir
 \, fr=C3=BChzeitig anzureisen.   =0D=0A   Sollte die Tiefgarage voll sein\, empfe
 hlen wir die Nutzung nahegelegener Parkh=C3=A4user.   =0D=0A   F=C3=BCr eine st
 ressfreie Anreise raten wir zudem\, die =C3=B6ffentlichen Verkehrsmittel zu 
 nutzen =E2=80=93 die Haltestellen befinden sich direkt an unseren Geb=C3=A4
 uden und sind in weniger als 3 Minuten zu Fu=C3=9F erreichbar. Auch das Fah
 rrad stellt eine praktische und umweltfreundliche Option dar.        Vielen
  Dank f=C3=BCr Ihr Verst=C3=A4ndnis. Wir w=C3=BCnschen Ihnen eine angenehme
  Anreise und viel Freude bei der Veranstaltung!   =0D=0A       Ihr Team der Mes
 se Karlsruhe        Begin: 09:00 Ende: 15:00 =20
URL:https://kalender.karlsruhe.de/db/termine/ausstellungen/munzmesse_november2026n
CLASS:PUBLIC
DTSTART:20261108T000000
DTEND:20261109T000000
DTSTAMP:20260420T175601
CATEGORIES:Kunst, Ausstellungen
ATTACH:https://kalender.karlsruhe.de/db/termine/
END:VEVENT

END:VCALENDAR
