BEGIN:VCALENDAR
VERSION:2.0
CALSCALE:GREGORIAN
PRODID:https://kalender.karlsruhe.de/db/termine/
METHOD:PUBLISH
BEGIN:VEVENT
UID:580778
ORGANIZER;CN=ZKM | Zentrum für Kunst und Medien Karlsruhe:MAILTO:info@zkm.de
LOCATION:Zentrum für Kunst und Medien (ZKM)
SUMMARY:Muttertag-Special
DESCRIPTION;ENCODING=QUOTED-PRINTABLE:It=E2=80=99s a Match =E2=80=93 Finde deinen Art Buddy!=0D=0A=0D=0A  Den Muttertag e
 inmal anders erleben =E2=80=93 jenseits von Blumenstrau=C3=9F und Restauran
 tbesuch: Wir laden euch ein zu einem besonderen Nachmittag voller Begegnung
 en\, ehrlicher Gespr=C3=A4che und gemeinsamer Zeit zwischen Kunstwerken\, Men
 schen und verschiedenen Generationen.    Denn dieser Tag steht ganz im Zeic
 hen der Mutter. Die Mutter als Ursprung\, als Begleiterin\, als pr=C3=A4gende
  Kraft im Leben. Ob liebevoll oder herausfordernd\, nah oder fern\, lebendig 
 oder in Erinnerung: Die Beziehung zwischen Mutter und Kind ist einzigartig 
 und vielschichtig. Genau daf=C3=BCr m=C3=B6chten wir Raum schaffen\, f=C3=BC
 r Wertsch=C3=A4tzung\, Austausch und neue Perspektiven.    Eingeladen sind M
 =C3=BCtter\, allein oder gemeinsam mit ihren Kindern (ab 14 Jahren)\, die Lus
 t haben\, sich inspirieren zu lassen\, ins Gespr=C3=A4ch zu kommen und andere
  M=C3=BCtter sowie ihre Kinder kennenzulernen.    Zum Ausklang laden wir eu
 ch ein\, den Nachmittag bei Kuchen\, Kaffee\, Tee und Limonade entspannt auskl
 ingen zu lassen mit Zeit zum Vertiefen\, Weiterreden und Vernetzen.      Hin
 weis:    Kinder k=C3=B6nnen ab 14 Jahren teilnehmen. =20
URL:https://kalender.karlsruhe.de/db/termine/ausstellungen/muttertag_special
CLASS:PUBLIC
DTSTART:20260510T150000
DTEND:20260510T173000
DTSTAMP:20260415T102439
CATEGORIES:Kunst, Ausstellungen
ATTACH:https://kalender.karlsruhe.de/db/termine/ausstellungen/muttertag_special/file/icon_Masterclass_25_0405_badge.jpg
END:VEVENT

END:VCALENDAR
