BEGIN:VCALENDAR
VERSION:2.0
CALSCALE:GREGORIAN
PRODID:https://kalender.karlsruhe.de/db/termine/
METHOD:PUBLISH
BEGIN:VEVENT
UID:577644
ORGANIZER;CN=Lichtwert e. V. Verein für künstlerische Fotografie:MAILTO:Vorstand@Lichtwert-Fotografie.de
LOCATION:Lichtwert e. V. Verein für künstlerische Fotografie, Karlsruhe
SUMMARY:On dis/appearance
DESCRIPTION;ENCODING=QUOTED-PRINTABLE:OPENING=0D=0A=0D=0A  Maria Kropfitsch.=C2=A0unbetitelt\, 2024    =C2=B4the world is 
 heavy and opaque without dreams=CB=8B. anais nin    Opening | 22. Januar 20
 26\, 19.30 =20
URL:https://kalender.karlsruhe.de/db/termine/ausstellungen/on_disappearance
CLASS:PUBLIC
DTSTART:20260122T193000
DTEND:20260421T000000
DTSTAMP:20260303T104449
CATEGORIES:Kunst, Ausstellungen
ATTACH:https://kalender.karlsruhe.de/db/termine/ausstellungen/on_disappearance/file/icon_IMG_0027.jpg
END:VEVENT

END:VCALENDAR
