BEGIN:VCALENDAR
VERSION:2.0
CALSCALE:GREGORIAN
PRODID:https://kalender.karlsruhe.de/db/termine/
METHOD:PUBLISH
BEGIN:VEVENT
UID:578906
ORGANIZER;CN=ZKM | Zentrum für Kunst und Medien Karlsruhe:MAILTO:info@zkm.de
LOCATION:Zentrum für Kunst und Medien (ZKM)
SUMMARY:Open Hertzlab: MARS! Resource Management
DESCRIPTION;ENCODING=QUOTED-PRINTABLE:Das Hertzlab fliegt zum Mars!=0D=0A=0D=0A    Ort    =0D=0A  Musikbalkon      Kosten    
 =0D=0A  Eintritt frei    Das Leben in einer geschlossenen Umgebung erfordert ei
 nen sorgf=C3=A4ltigen Umgang mit Ressourcen\, denn sowohl Luft als auch Wass
 er sind kostbar. Schlie=C3=9Ft euch den Mitgliedern der Red Dust Society\, d
 er K=C3=BCnstlerin Katherine Ball und der lokalen Initiative =E2=80=9EUrban
 e G=C3=A4rten Karlsruhe=E2=80=9C an\, um beim Aufbau eines industriellen Was
 serrecyclingsystems mit Wasserpflanzen\, Sand und Pilzen mitzuhelfen.    Ihr
  seid her(t)zlich eingeladen. Kommt einfach vorbei!    Treffpunkt: Musikbal
 kon im Foyer\, 1. OG =C3=BCber dem ZKM Haupteingang =20
URL:https://kalender.karlsruhe.de/db/termine/ausstellungen/open_hertzlab_mars_resource_management
CLASS:PUBLIC
DTSTART:20260522T150000
DTEND:20260522T180000
DTSTAMP:20260210T112847
CATEGORIES:Kunst, Ausstellungen
ATTACH:https://kalender.karlsruhe.de/db/termine/ausstellungen/open_hertzlab_mars_resource_management/file/icon_0-Indoor-Greywater-System-lr_840.jpg
END:VEVENT

END:VCALENDAR
