BEGIN:VCALENDAR
VERSION:2.0
CALSCALE:GREGORIAN
PRODID:https://kalender.karlsruhe.de/db/termine/
METHOD:PUBLISH
BEGIN:VEVENT
UID:581103
ORGANIZER;CN=pointss.gallery:MAILTO:
LOCATION:Online Veranstaltung
SUMMARY:quiet becoming
DESCRIPTION;ENCODING=QUOTED-PRINTABLE:Er=C3=B6ffnung der ersten Online-Ausstellung von pointss.gallery=0D=0A=0D=0A  Mit  
    quiet becoming    er=C3=B6ffnet=C2=A0pointss.gallery=C2=A0seine erste Au
 sstellung: Gem=C3=A4lde der Karlsruher K=C3=BCnstlerin=C2=A0Anna Marshall\, 
 die Frauen in Momenten innerer Ver=C3=A4nderung portr=C3=A4tiert. Minimalis
 tisch\, pers=C3=B6nlich\, ohne L=C3=A4rm.    Keine =C3=96ffnungszeiten\, keine
  Eile. Ab 24. April online\, dauerhaft\, kostenlos\, made in Durlach. =20
URL:https://kalender.karlsruhe.de/db/termine/ausstellungen/quiet_becoming
CLASS:PUBLIC
DTSTART:20260424T193100
DTEND:
DTSTAMP:20260422T104925
CATEGORIES:Kunst, Ausstellungen
ATTACH:https://kalender.karlsruhe.de/db/termine/ausstellungen/quiet_becoming/file/icon_1.jpg
END:VEVENT

END:VCALENDAR
