BEGIN:VCALENDAR
VERSION:2.0
CALSCALE:GREGORIAN
PRODID:https://kalender.karlsruhe.de/db/termine/
METHOD:PUBLISH
BEGIN:VEVENT
UID:572268
ORGANIZER;CN=Staatliche Kunsthalle Karlsruhe:MAILTO:info@kunsthalle-karlsruhe.de
LOCATION:Sammlungspräsentation der Staatlichen Kunsthalle Karlsruhe im ZKM
SUMMARY:Schwarze Materie. Pierre Soulages
DESCRIPTION;ENCODING=QUOTED-PRINTABLE:Studioausstellung=0D=0A=0D=0A  Es ist ein spektakul=C3=A4rer Sammlungszuwachs: Das 
 gro=C3=9Fformatige Gem=C3=A4lde     Peinture 252 x 102 cm\, 8 f=C3=A9vrier  
   1990 z=C3=A4hlt zu den ber=C3=BChmten     Outrenoirs    des franz=C3=B6si
 schen Malers Pierre Soulages.    Das Werk konnte j=C3=BCngst mit Mitteln de
 r Museumsstiftung Baden-W=C3=BCrttemberg  f=C3=BCr die Sammlung der Kunstha
 lle Karlsruhe erworben werden. Es zeigt  sich nun erstmals dem Karlsruher P
 ublikum und steht im Mittelpunkt einer  konzentrierten Studioausstellung de
 r Kunsthalle im ZKM\, in der neben  der Malerei auch Grafik des K=C3=BCnstle
 rs gezeigt wird. Das eigene Erleben  von Lichtreflexionen auf der pastos au
 fgetragenen schwarzen Farbe in  Abh=C3=A4ngigkeit von der eigenen Bewegung\,
  die Dynamik von Licht und  Dunkelheit\, die weiten Raum f=C3=BCr Imaginatio
 n und Gedankenspiele l=C3=A4sst\,  steht im Fokus dieser konzentrierten Pr
 =C3=A4sentation. Das Bild entstand vor  dem Hintergrund seiner bedeutenden 
 Fenster f=C3=BCr die romanische  Abteikirche im s=C3=BCdfranz=C3=B6sischen 
 Conques und wird k=C3=BCnftig in der Sammlung  sp=C3=A4tmittelterlicher chr
 istlicher Kunst der Kunsthalle im ZKM gezeigt  werden.    Bild: Ausstellung
 sansicht Schwarze Materie\, Pierre Soulages\, Staatliche Kunsthalle Karlsruhe
  =20
URL:https://kalender.karlsruhe.de/db/termine/ausstellungen/schwarze_materie_pierre_soulages
CLASS:PUBLIC
DTSTART:20250927T000000
DTEND:20260308T000000
DTSTAMP:20251111T105900
CATEGORIES:Kunst, Ausstellungen
ATTACH:https://kalender.karlsruhe.de/db/termine/ausstellungen/schwarze_materie_pierre_soulages/file/icon_Ausstellungsansicht_Dunkle Materie_Pierre Soulages_Staatliche Kunsthalle Karlsruhe_1.jpg
END:VEVENT

END:VCALENDAR
